BEGIN:VCALENDAR
VERSION:2.0
PRODID:-//ChamberMaster//Event Calendar 2.0//EN
METHOD:PUBLISH
X-PUBLISHED-TTL:P3D
REFRESH-INTERVAL:P3D
CALSCALE:GREGORIAN
BEGIN:VEVENT
DTSTART:20240207T140000Z
DTEND:20240207T160000Z
X-MICROSOFT-CDO-ALLDAYEVENT:FALSE
SUMMARY:MOXIE Business Owner Roundtable
DESCRIPTION:MOXIE (Member Owners eXchange Information & Experience) is a group of member business Owners/Presidents who meet monthly with Christy Jones to discuss issues impacting their businesses. All member Business Owners/Presidents are invited to participate.  Everyone must sign a confidentiality clause.\n\n\n\nThis month we will discuss the Corporate Transparency Act that went into effect January 2024.  \n\n\n\nWhat is it?\n\nEnacted in 2021\, the CTA aims to combat illicit activity including tax fraud\, money laundering and financing for terrorism by capturing more ownership information for specific US businesses operating in or accessing the country's market.  \n\n\n\nUnder new legislation\, businesses that meet certain criteria must submit a Beneficial Ownership Information Report to the US Department of Treasury's Financial Crimes Enforcement Network\, providing details identifying individuals who are associated with the reporting company.  \n\n\n\nCome learn more on Wednesday!
X-ALT-DESC;FMTTYPE=text/html:<span class="scayt-misspell-word" style="font-family: arial\; font-size: 12px\;">MOXIE</span><span class="apple-converted-space" style="font-family: arial\; font-size: 12px\;">&nbsp\;</span><span style="font-family: arial\; font-size: 12px\;">(Member Owners&nbsp\;</span><span class="scayt-misspell-word" style="font-family: arial\; font-size: 12px\;">eXchange</span><span style="font-family: arial\; font-size: 12px\;">&nbsp\;Information &amp\; Experience) is a group of member business Owners/Presidents&nbsp\;who meet monthly with Christy Jones</span><span style="font-family: arial\; font-size: 12px\;">&nbsp\;to discuss issues impacting their businesses.&nbsp\;</span><span class="apple-converted-space" style=""><font face="arial"><span style="font-size: 12px\;">All member Business Owners/Presidents are invited to participate.&nbsp\; Everyone must sign a confidentiality clause.</span></font><br />\n<br />\n<font face="arial"><span style="font-size: 12px\;">This month we will discuss the </span></font><strong style="font-family: arial\; font-size: 12px\;">Corporate Transparency Act that went into effect January 2024.&nbsp\;&nbsp\;<br />\n<br />\nWhat is it?</strong><br />\n<font face="arial"><span style="font-size: 12px\;">Enacted in 2021\, the CTA aims to combat illicit activity including tax fraud\, money laundering and financing for terrorism&nbsp\;by capturing more ownership information for specific US businesses operating in or accessing the country&#39\;s market.&nbsp\;&nbsp\;</span></font><br />\n<br />\n<font face="arial"><span style="font-size: 12px\;">Under new legislation\, businesses that meet certain criteria must submit a Beneficial Ownership Information Report to the US Department of Treasury&#39\;s Financial Crimes Enforcement Network\, providing details identifying individuals&nbsp\;who are associated&nbsp\;with the reporting company.&nbsp\;&nbsp\;</span></font></span><br />\n<br />\nCome learn more on Wednesday!
LOCATION:Urbandale Chamber of Commerce Board Room | 2830 100th St.\, Suite 110\, Urbandale\, IA 50322 Attendees attend the event in-person or virtually. A Zoom link will be emailed following registration.
UID:e.1185.12973
SEQUENCE:3
DTSTAMP:20260421T165728Z
URL:http://business.uniquelyurbandale.com/events/details/moxie-business-owner-roundtable-12973
END:VEVENT

END:VCALENDAR
