BEGIN:VCALENDAR
VERSION:2.0
PRODID:-//ChamberMaster//Event Calendar 2.0//EN
METHOD:PUBLISH
X-PUBLISHED-TTL:P3D
REFRESH-INTERVAL:P3D
CALSCALE:GREGORIAN
BEGIN:VEVENT
DTSTART:20240103T140000Z
DTEND:20240103T160000Z
X-MICROSOFT-CDO-ALLDAYEVENT:FALSE
SUMMARY:MOXIE Business Owner Roundtable
DESCRIPTION:MOXIE (Member Owners eXchange Information & Experience) is a group of member business Owners/Presidents who meet monthly with Christy Jones\, ActionCoach\, to discuss issues impacting their businesses. All member Business Owners/Presidents are invited to participate.  Everyone must sign a confidentiality clause.\n\n\n\nThis month our topic of discussion is "More or Less." We will reflect on what happened in 2023 and we'll go over what we want more of in 2024 and what we want less of in 2024.
X-ALT-DESC;FMTTYPE=text/html:<span style="font-family:arial\;"><span class="scayt-misspell-word">MOXIE</span><span class="apple-converted-space">&nbsp\;</span>(Member Owners&nbsp\;<span class="scayt-misspell-word">eXchange</span>&nbsp\;Information &amp\; Experience) is a group of member business Owners/Presidents&nbsp\;who meet monthly with Christy Jones\,<span class="apple-converted-space">&nbsp\;</span><span class="scayt-misspell-word">ActionCoach</span>\, to discuss issues impacting their businesses.&nbsp\;<span class="apple-converted-space">All member Business Owners/Presidents are invited to participate.&nbsp\; Everyone must sign a confidentiality clause.<br />\n<br />\nThis month our topic of discussion is &quot\;More or Less.&quot\;&nbsp\;</span><span style="font-size:11.0pt\;">We will reflect&nbsp\;on what happened in 2023 and we&#39\;ll go over what we want more of in 2024 and what we want less of in 2024.</span></span>
LOCATION:Aisha R. Syed Board Room Realtor | Iowa Realty 2830 100th St.\, Suite 110\, Urbandale\, IA 50322 Attendees attend the event in-person or virtually. A Zoom link will be emailed following registration.
UID:e.1185.12972
SEQUENCE:3
DTSTAMP:20260421T182056Z
URL:http://business.uniquelyurbandale.com/events/details/moxie-business-owner-roundtable-12972
END:VEVENT

END:VCALENDAR
