BEGIN:VCALENDAR
VERSION:2.0
PRODID:-//ChamberMaster//Event Calendar 2.0//EN
METHOD:PUBLISH
X-PUBLISHED-TTL:P3D
REFRESH-INTERVAL:P3D
CALSCALE:GREGORIAN
BEGIN:VEVENT
DTSTART:20231206T140000Z
DTEND:20231206T160000Z
X-MICROSOFT-CDO-ALLDAYEVENT:FALSE
SUMMARY:MOXIE Business Owner Roundtable
DESCRIPTION:MOXIE (Member Owners eXchange Information & Experience) is a group of member business Owners/Presidents who meet monthly with Christy Jones\, ActionCoach\, to discuss issues impacting their businesses. All member Business Owners/Presidents are invited to participate.  Everyone must sign a confidentiality clause.\n\n\n\nThis month's topic is The Success Formula.  Learn more about Brad Sugar's formula for success!
X-ALT-DESC;FMTTYPE=text/html:<span style="font-family:arial\;"><span class="scayt-misspell-word" style="font-size: 12px\;">MOXIE</span><span class="apple-converted-space" style="font-size: 12px\;">&nbsp\;</span><span style="font-size: 12px\;">(Member Owners&nbsp\;</span><span class="scayt-misspell-word" style="font-size: 12px\;">eXchange</span><span style="font-size: 12px\;">&nbsp\;Information &amp\; Experience) is a group of member business Owners/Presidents&nbsp\;who meet monthly with Christy Jones\,</span><span class="apple-converted-space" style="font-size: 12px\;">&nbsp\;</span><span class="scayt-misspell-word" style="font-size: 12px\;">ActionCoach</span><span style="font-size: 12px\;">\, to discuss issues impacting their businesses.&nbsp\;</span><span class="apple-converted-space" style="font-size: 12px\;">All member Business Owners/Presidents are invited to participate.&nbsp\; Everyone must sign a confidentiality clause.<br />\n<br />\nThis month&#39\;s topic is The Success Formula.&nbsp\; Learn more about Brad Sugar&#39\;s formula for success!</span></span>
LOCATION:Urbandale Chamber of Commerce Aisha R. Syed Board Room REALTOR | Iowa Realty 2830 100th St.\, Suite 110\,Urbandale\, IA 50322 Attendees attend the event in-person or virtually. A Zoom link will be emailed following registration.
UID:e.1185.12716
SEQUENCE:3
DTSTAMP:20260421T193944Z
URL:http://business.uniquelyurbandale.com/events/details/moxie-business-owner-roundtable-12716
END:VEVENT

END:VCALENDAR
