BEGIN:VCALENDAR
VERSION:2.0
PRODID:-//ChamberMaster//Event Calendar 2.0//EN
METHOD:PUBLISH
X-PUBLISHED-TTL:P3D
REFRESH-INTERVAL:P3D
CALSCALE:GREGORIAN
BEGIN:VEVENT
DTSTART:20230802T130000Z
DTEND:20230802T150000Z
X-MICROSOFT-CDO-ALLDAYEVENT:FALSE
SUMMARY:MOXIE Business Owner Roundtable
DESCRIPTION:MOXIE (Member Owners eXchange Information & Experience) is a group of member business Owners/Presidents who meet monthly with Christy Jones\, ActionCoach\, to discuss issues impacting their businesses. All member Business Owners/Presidents are invited to participate.  Everyone must sign a confidentiality clause.\n\n\n\nThis month we have invited the SBDC to participate to present on the free services offered to business owners.  The Small Business Development Center provides counseling and training to small businesses including working with SBA to develop and provide informational tools to support business start-ups and existing business expansion.
X-ALT-DESC;FMTTYPE=text/html:<span style="font-family:arial\;"><span class="scayt-misspell-word" style="font-size: 12px\;">MOXIE</span><span class="apple-converted-space" style="font-size: 12px\;">&nbsp\;</span><span style="font-size: 12px\;">(Member Owners&nbsp\;</span><span class="scayt-misspell-word" style="font-size: 12px\;">eXchange</span><span style="font-size: 12px\;">&nbsp\;Information &amp\; Experience) is a group of member business Owners/Presidents&nbsp\;who meet monthly with Christy Jones\,</span><span class="apple-converted-space" style="font-size: 12px\;">&nbsp\;</span><span class="scayt-misspell-word" style="font-size: 12px\;">ActionCoach</span><span style="font-size: 12px\;">\, to discuss issues impacting their businesses.&nbsp\;</span><span class="apple-converted-space" style="font-size: 12px\;">All member Business Owners/Presidents are invited to participate.&nbsp\; Everyone must sign a confidentiality clause.<br />\n<br />\n<strong>This month we have invited the SBDC to participate to present on the free services offered to business owners</strong>.&nbsp\; The S</span></span>mall Business Development Center provides counseling and training to small businesses including working with SBA to develop and provide informational tools to support business start-ups and existing business expansion.
LOCATION:PLEASE NOTE LOCATION CHANGE We are meeting at Anderson Properties Office 4451 NW Urbandale Dr. Urbandale\, IA 50322 *There will not be a zoom option for this month's meeting*
UID:e.1185.12712
SEQUENCE:3
DTSTAMP:20260422T021202Z
URL:http://business.uniquelyurbandale.com/events/details/moxie-business-owner-roundtable-12712
END:VEVENT

END:VCALENDAR
