BEGIN:VCALENDAR
VERSION:2.0
PRODID:-//ChamberMaster//Event Calendar 2.0//EN
METHOD:PUBLISH
X-PUBLISHED-TTL:P3D
REFRESH-INTERVAL:P3D
CALSCALE:GREGORIAN
BEGIN:VEVENT
DTSTART:20231114T223000Z
DTEND:20231115T003000Z
X-MICROSOFT-CDO-ALLDAYEVENT:FALSE
SUMMARY:Mosaic's 40 Years of Service Ribbon Cutting
DESCRIPTION:Please join the Urbandale Chamber in celebrating Mosaic's 40 Year Anniversary Ribbon Cutting!\n\n\n\nCelebrate 40 years of service in the Des Moines area with Mosaic in Central Iowa and a 110 year legacy!\n\n\n\nSince 1983\, Mosaic in Central Iowa has been providing home and community based services to adults with disabilities\, autism\, brain injuries\, mental and behavioral challenges and other diverse health care needs. Join in commemorating this anniversary!
X-ALT-DESC;FMTTYPE=text/html:<span style="color: rgb(75\, 0\, 130)\; font-weight: bold\; font-size: 20px\;">Please join the Urbandale Chamber in celebrating Mosaic&#39\;s 40 Year Anniversary Ribbon Cutting!</span><br />\n<br />\n<span style="font-size:14px\;"><span style="color: rgb(36\, 36\, 36)\; font-family: sans-serif\;">Celebrate 40 years of service in the Des Moines area with Mosaic in Central Iowa and a 110 year legacy!</span><br aria-hidden="true" style="color: rgb(36\, 36\, 36)\; font-family: sans-serif\; font-size: 12px\;" />\n<br aria-hidden="true" style="color: rgb(36\, 36\, 36)\; font-family: sans-serif\; font-size: 12px\;" />\n<span style="color: rgb(36\, 36\, 36)\; font-family: sans-serif\;">Since 1983\, Mosaic in Central Iowa has been providing home and community based services to adults with disabilities\, autism\, brain injuries\, mental and behavioral challenges and other diverse health care needs. Join in commemorating this anniversary!</span></span>
LOCATION:Mosaic in Central Iowa 11141 Aurora Avenue | Building 3 Urbandale\, IA 50322
UID:e.1185.13212
SEQUENCE:3
DTSTAMP:20260421T212033Z
URL:http://business.uniquelyurbandale.com/events/details/mosaic-s-40-years-of-service-ribbon-cutting-13212
END:VEVENT

END:VCALENDAR
