BEGIN:VCALENDAR
VERSION:2.0
PRODID:-//ChamberMaster//Event Calendar 2.0//EN
METHOD:PUBLISH
X-PUBLISHED-TTL:P3D
REFRESH-INTERVAL:P3D
CALSCALE:GREGORIAN
BEGIN:VEVENT
DTSTART:20250204T173000Z
DTEND:20250204T183000Z
X-MICROSOFT-CDO-ALLDAYEVENT:FALSE
SUMMARY:Money & Wealth: How To Become A Millionaire!
DESCRIPTION:Join us for this fun\, interactive introduction to living debt-free - designed to inspire and empower.\n\n\n\nIn this workshop you'll:\n\n~Discover the five reasons to live debt free\n\n~Learn the #1 strategy to pay off debt so you can reset or begin organizing your money\n\n~Grow your confidence and transform your money mindset\n\n\n\nSign up now and start your path to your first million!\n\n\n\n11:00 registration & BYOL\n\n11:30 workshop\n\n12:15 Q&A\n\n12:30 wrap up\n\n\n\n*In-person in Urbandale\, IA\n\n*Bring a friend this L&L is open to the public\n\n*You bring lunch & we'll bring dessert!
X-ALT-DESC;FMTTYPE=text/html:Join us for this fun\, interactive introduction to living debt-free - designed to inspire and empower.<br />\n<br />\nIn this workshop you&#39\;ll:<br />\n~Discover the five reasons to live debt free<br />\n~Learn the #1 strategy to pay off debt so you can reset or begin organizing your money<br />\n~Grow your confidence and transform your money mindset<br />\n<br />\nSign up now and start your path to your first million!<br />\n<br />\n11:00 registration &amp\; BYOL<br />\n11:30 workshop<br />\n12:15 Q&amp\;A<br />\n12:30 wrap up<br />\n<br />\n*In-person in Urbandale\, IA<br />\n*Bring a friend this L&amp\;L is open to the public<br />\n*You bring lunch &amp\; we&#39\;ll bring dessert!
LOCATION:Urbandale Chamber of Commerce 2830 100th Street\, Suite 110 Urbandale\, IA 50322
UID:e.1185.16562
SEQUENCE:3
DTSTAMP:20260421T031622Z
URL:http://business.uniquelyurbandale.com/events/details/money-wealth-how-to-become-a-millionaire-16562
END:VEVENT

END:VCALENDAR
