BEGIN:VCALENDAR
VERSION:2.0
PRODID:-//ChamberMaster//Event Calendar 2.0//EN
METHOD:PUBLISH
X-PUBLISHED-TTL:P3D
REFRESH-INTERVAL:P3D
CALSCALE:GREGORIAN
BEGIN:VEVENT
DTSTART:20240208T003000Z
DTEND:20240208T023000Z
X-MICROSOFT-CDO-ALLDAYEVENT:FALSE
SUMMARY:Money 101
DESCRIPTION:Please join us for a free meal as we present facts on how money works and how it can work for you.\n\nHere are a few of the topics we will be discussing. \n\nLiving Benefits - this allows you to access your life insurance benefits while you are still alive\n\nIUL - Life Insurance with tax free growth for retirement\n\nAnnuities - Grow your retirement risk free and have guaranteed income no matter how long you live\n\nThe power of compound interest and risk free index accounts - gain money when up and never loose when down
X-ALT-DESC;FMTTYPE=text/html:Please join us for a free meal as we present facts on how money works and how it can work for you.<br />\nHere are a few of the topics we will be discussing.&nbsp\;<br />\nLiving Benefits - this allows you to access your life insurance benefits while you are still alive<br />\nIUL - Life Insurance with tax free growth for retirement<br />\nAnnuities - Grow your retirement risk free and have guaranteed income no matter how long you live<br />\nThe power of compound interest and risk free index accounts - gain money when up and never loose when down<br />\n&nbsp\;
LOCATION:Gilroy's 1238 8th St West Des Moines\, IA 50266
UID:e.1185.15005
SEQUENCE:3
DTSTAMP:20260421T165447Z
URL:http://business.uniquelyurbandale.com/events/details/money-101-15005
END:VEVENT

END:VCALENDAR
