BEGIN:VCALENDAR
VERSION:2.0
PRODID:-//ChamberMaster//Event Calendar 2.0//EN
METHOD:PUBLISH
X-PUBLISHED-TTL:P3D
REFRESH-INTERVAL:P3D
CALSCALE:GREGORIAN
BEGIN:VEVENT
DTSTART:20250306T220000Z
DTEND:20250306T230000Z
X-MICROSOFT-CDO-ALLDAYEVENT:FALSE
SUMMARY:Membership Informational Session (PM)
DESCRIPTION:Have you wondered how being a member of the Urbandale Chamber of Commerce can make a positive impact on your business? \n\n\n\nThis informational session is the perfect opportunity to find out: \n\nWHO WE ARE\n\nWHAT WE DO\n\n& \n\nWHAT'S IN IT FOR YOU! \n\n\n\nWe look forward to meeting you!
X-ALT-DESC;FMTTYPE=text/html:Have you wondered how being a member of the Urbandale Chamber of Commerce can make a positive impact on your business?&nbsp\;<br />\n<br />\nThis informational session is the perfect opportunity to find out:&nbsp\;<br />\n<strong>WHO</strong>&nbsp\;WE ARE<br />\n<strong>WHAT</strong>&nbsp\;WE DO<br />\n&amp\;&nbsp\;<br />\n<strong>WHAT&#39\;S</strong>&nbsp\;IN IT FOR YOU!&nbsp\;<br />\n<br />\n<span style="font-size: 18px\;"><strong>We look forward to meeting you!&nbsp\;</strong></span>
LOCATION:Urbandale Chamber of Commerce Aisha R. Syed Board Room Realtor | Iowa Realty 2830 100th St. Ste. 110 Urbandale\, IA 50322
UID:e.1185.16118
SEQUENCE:3
DTSTAMP:20260421T043751Z
URL:http://business.uniquelyurbandale.com/events/details/membership-informational-session-pm-16118
END:VEVENT

END:VCALENDAR
