BEGIN:VCALENDAR
VERSION:2.0
PRODID:-//ChamberMaster//Event Calendar 2.0//EN
METHOD:PUBLISH
X-PUBLISHED-TTL:P3D
REFRESH-INTERVAL:P3D
CALSCALE:GREGORIAN
BEGIN:VEVENT
DTSTART:20231012T200000Z
DTEND:20231012T230000Z
X-MICROSOFT-CDO-ALLDAYEVENT:FALSE
SUMMARY:Meadowview of Clive Grand Opening Ribbon Cutting
DESCRIPTION:Join the Urbandale & Clive Chamber in celebrating Meadowview of Clive's Grand Opening Ribbon Cutting.\n\n\n\nJoin us for food\, beverages\, and live music. Take a peek\, or take a tour\, of our beautiful new contemporary community!\n\n\n\nOur community offers independent living\, assisted living and memory care. When transitioning from independent living to assisted living\, no need to move to another smaller apartment\, we provide the assistance and support in the same apartment selected for independent living.
X-ALT-DESC;FMTTYPE=text/html:<strong style="color: rgb(75\, 0\, 130)\;"><span style="font-size: 20px\;">Join the Urbandale &amp\; Clive Chamber in celebrating Meadowview of Clive&#39\;s Grand Opening Ribbon Cutting.</span></strong><br />\n<br />\n<span style="color: rgb(36\, 36\, 36)\; font-family: sans-serif\; font-size: 12px\;">Join us for food\, beverages\, and live music. Take a peek\, or take a tour\, of our beautiful new contemporary community!</span><br aria-hidden="true" style="color: rgb(36\, 36\, 36)\; font-family: sans-serif\; font-size: 12px\;" />\n<br aria-hidden="true" style="color: rgb(36\, 36\, 36)\; font-family: sans-serif\; font-size: 12px\;" />\n<span style="color: rgb(36\, 36\, 36)\; font-family: sans-serif\; font-size: 12px\;">Our community offers independent living\, assisted living and memory care. When transitioning from independent living to assisted living\, no need to move to another smaller apartment\, we provide the assistance and support in the same apartment selected for independent living.</span>
LOCATION:Meadowview of Clive 3300 Berkshire Pkwy Clive\, IA 50325
UID:e.1185.13207
SEQUENCE:3
DTSTAMP:20260422T001620Z
URL:http://business.uniquelyurbandale.com/events/details/meadowview-of-clive-grand-opening-ribbon-cutting-13207
END:VEVENT

END:VCALENDAR
