BEGIN:VCALENDAR
VERSION:2.0
PRODID:-//ChamberMaster//Event Calendar 2.0//EN
METHOD:PUBLISH
X-PUBLISHED-TTL:P3D
REFRESH-INTERVAL:P3D
CALSCALE:GREGORIAN
BEGIN:VEVENT
DTSTART:20230801T140000Z
DTEND:20230801T150000Z
X-MICROSOFT-CDO-ALLDAYEVENT:FALSE
SUMMARY:Maximize Your Membership
DESCRIPTION:SPOTS ARE LIMITED! \n\n\n\nI'm a member... now what?\n\n\n\nThis event provides an opportunity for new members\, representatives\, future members\, and longtime members to come together to learn about how an Urbandale Chamber membership can serve you and your business. Join us to learn more about Urbandale Chamber programs and benefits. \n\n\n\nWho should attend? New members\, new representatives\, future members\, and longtime members!\n\n\n\nMeet other members/staff and learn more about accessing your benefits in a small group\, informal gathering. Bring your questions!
X-ALT-DESC;FMTTYPE=text/html:<span style="font-family:arial\;"><span style="font-size:12px\;"><span style="color:#FF8C00\;"><strong><span style="font-size:16px\;">SPOTS ARE LIMITED!&nbsp\;</span></strong></span><br />\n<br />\n<span style="color: rgb(68\, 68\, 68)\;"><strong>I&#39\;m a member... now what?</strong></span></span></span><br />\n<br />\n<span style="color: rgb(68\, 68\, 68)\; font-family: arial\; font-size: 12px\;">This event</span><span style="font-family:arial\;"><span style="font-size:12px\;"><span style="color: rgb(68\, 68\, 68)\;"> provides an opportunity for new members\, representatives\, future members\, and longtime members to come together to learn about how an Urbandale Chamber membership can serve you and your business. Join us to learn more about Urbandale Chamber programs and benefits.&nbsp\;</span><br style="box-sizing: border-box\; color: rgb(68\, 68\, 68)\; font-family: arial\, sans-serif\; font-size: 14px\;" />\n<br style="box-sizing: border-box\; color: rgb(68\, 68\, 68)\; font-family: arial\, sans-serif\; font-size: 14px\;" />\n<span style="color: rgb(68\, 68\, 68)\;">Who should attend? New members\, new representatives\, future members\, and longtime members!</span><br style="box-sizing: border-box\; color: rgb(68\, 68\, 68)\; font-family: arial\, sans-serif\; font-size: 14px\;" />\n<br style="box-sizing: border-box\; color: rgb(68\, 68\, 68)\; font-family: arial\, sans-serif\; font-size: 14px\;" />\n<span style="color: rgb(68\, 68\, 68)\;">Meet other members/staff and learn more about accessing your benefits in a small group\, informal gathering. Bring your questions!</span></span></span>
LOCATION:DUE TO CONSTRUCTION HAPPENING AT THE CHAMBER OFFICE\, AUGUST MAXIMIZE YOUR MEMBERSHIP WILL BE HELD AT: Quester 6500 University Ave. Suite 205 Windsor Heights There will not be a zoom option for August.
UID:e.1185.12702
SEQUENCE:3
DTSTAMP:20260422T015640Z
URL:http://business.uniquelyurbandale.com/events/details/maximize-your-membership-12702
END:VEVENT

END:VCALENDAR
