BEGIN:VCALENDAR
VERSION:2.0
PRODID:-//ChamberMaster//Event Calendar 2.0//EN
METHOD:PUBLISH
X-PUBLISHED-TTL:P3D
REFRESH-INTERVAL:P3D
CALSCALE:GREGORIAN
BEGIN:VEVENT
DTSTART:20240211T020000Z
DTEND:20240211T040000Z
X-MICROSOFT-CDO-ALLDAYEVENT:FALSE
SUMMARY:Luke Stutzman
DESCRIPTION:FREE LIVE ENTERTAINMENT\n\nGenre: Acoustic/Country
X-ALT-DESC;FMTTYPE=text/html:<p>FREE LIVE ENTERTAINMENT</p>\n\n<p>Genre: Acoustic/Country</p>\n
LOCATION:Prairie Meadows Racetrack and Casino Finish Line Show Lounge (casino level 2)
UID:e.1185.13652
SEQUENCE:3
DTSTAMP:20260421T181731Z
URL:http://business.uniquelyurbandale.com/events/details/luke-stutzman-02-10-2024-13652
END:VEVENT

END:VCALENDAR
