BEGIN:VCALENDAR
VERSION:2.0
PRODID:-//ChamberMaster//Event Calendar 2.0//EN
METHOD:PUBLISH
X-PUBLISHED-TTL:P3D
REFRESH-INTERVAL:P3D
CALSCALE:GREGORIAN
BEGIN:VEVENT
DTSTART:20250126T020000Z
DTEND:20250126T050000Z
X-MICROSOFT-CDO-ALLDAYEVENT:FALSE
SUMMARY:Luke Stutzman
DESCRIPTION:Join central Iowa based Luke Stutzman in the Finish Line Show Lounge with his acoustic music\, rich vocals and jazzy soul in the Americana/Folk Rock genre. Must be 21 or older to attend. Don?t miss this free show!
X-ALT-DESC;FMTTYPE=text/html:Join central Iowa based Luke Stutzman in the Finish Line Show Lounge with his acoustic music\, rich vocals and jazzy soul in the Americana/Folk Rock genre. Must be 21 or older to attend. Don?t miss this free show!
LOCATION:Prairie Meadows Casino & Racetrack 1 Prairie Meadows Dr\, Altoona\, IA 50009
UID:e.1185.16059
SEQUENCE:3
DTSTAMP:20260421T013241Z
URL:http://business.uniquelyurbandale.com/events/details/luke-stutzman-01-25-2025-16059
END:VEVENT

END:VCALENDAR
