BEGIN:VCALENDAR
VERSION:2.0
PRODID:-//ChamberMaster//Event Calendar 2.0//EN
METHOD:PUBLISH
X-PUBLISHED-TTL:P3D
REFRESH-INTERVAL:P3D
CALSCALE:GREGORIAN
BEGIN:VEVENT
DTSTART:20240309T020000Z
DTEND:20240309T040000Z
X-MICROSOFT-CDO-ALLDAYEVENT:FALSE
SUMMARY:Lucas Beebe
DESCRIPTION:FREE LIVE ENTERTAINMENT\n\nGenre: Country/Variety
X-ALT-DESC;FMTTYPE=text/html:<p>FREE LIVE ENTERTAINMENT</p>\n\n<p>Genre: Country/Variety</p>\n
LOCATION:Prairie Meadows Racetrack and Casino Finish Line Show Lounge (casino level 2)
UID:e.1185.13659
SEQUENCE:3
DTSTAMP:20260421T164041Z
URL:http://business.uniquelyurbandale.com/events/details/lucas-beebe-03-08-2024-13659
END:VEVENT

END:VCALENDAR
