BEGIN:VCALENDAR
VERSION:2.0
PRODID:-//ChamberMaster//Event Calendar 2.0//EN
METHOD:PUBLISH
X-PUBLISHED-TTL:P3D
REFRESH-INTERVAL:P3D
CALSCALE:GREGORIAN
BEGIN:VEVENT
DTSTART;VALUE=DATE:20250410
DTEND;VALUE=DATE:20250411
TRANSP:TRANSPARENT
X-MICROSOFT-CDO-ALLDAYEVENT:TRUE
SUMMARY:Love and Money Masterclass Beliefs About Money and Their Origins
DESCRIPTION:Strong Love\, Smart Money\, Unshakable Future\n\n\n\nFor decades we've heard it  marriages and relationships are struggling\, and they need real help.\n\nMoney remains a leading cause of conflict & divorce\, but the cycle ends here. Knapper Financial Coaching and Real Connections Counseling & Coaching are joining forces to bring lasting change with the Love & Money Masterclass Series\nGet on the Same Page\n\nCouples rarely come from the same upbringing and many have vastly different experiences. Spender & Savers. Risk & Safety. All of you are different. Yet you can be who you are and master money together at the same time!\n\n\n\nMasterclass Series\n\nFrom beliefs and origins\, to personality\, life experience\, knowledge\, age and much more.\n\nRick & Monique Elgersma and Ron & Meg Knapper bring you the kind of financial and relational SERIES of workshops that can make you EXPERTS of love and money.
X-ALT-DESC;FMTTYPE=text/html:<h4 style="margin-left:33.9891pt\; margin-right:2.17688pt\; text-align:justify"><span dir="rtl"><em>&nbsp\;</em>Strong Love\, Smart Money\, Unshakable Future<br />\n<br />\nFor decades we&#39\;ve heard it</span>&mdash\; marriages and relationships are struggling\, and they need real help.</h4>\n\n<h4 style="margin-left:33.9891pt\; margin-right:2.17688pt">Money remains a leading cause of conflict &amp\; divorce\, but the cycle ends here. Knapper Financial Coaching and Real Connections Counseling &amp\; Coaching are joining forces to bring lasting change with the Love &amp\; Money Masterclass Series</h4>\nGet on the Same Page<br />\nCouples rarely come from the same upbringing and many have vastly different experiences. Spender &amp\; Savers. Risk &amp\; Safety. All of you are different. Yet you can be who you are and master money together at the same time!<br />\n<br />\nMasterclass Series<br />\nFrom beliefs and origins\, to personality\, life experience\, knowledge\, age and much more.<br />\nRick &amp\; Monique Elgersma and Ron &amp\; Meg Knapper bring you the kind of financial and relational SERIES of workshops that can make you EXPERTS of love and money.<br />\n&nbsp\;
LOCATION:Real Connections Counseling 2540 106th Street Ste 202 Urbandale\, IA Back of the building
UID:e.1185.17059
SEQUENCE:3
DTSTAMP:20260421T060028Z
URL:http://business.uniquelyurbandale.com/events/details/love-and-money-masterclass-beliefs-about-money-and-their-origins-17059
END:VEVENT

END:VCALENDAR
