BEGIN:VCALENDAR
VERSION:2.0
PRODID:-//ChamberMaster//Event Calendar 2.0//EN
METHOD:PUBLISH
X-PUBLISHED-TTL:P3D
REFRESH-INTERVAL:P3D
CALSCALE:GREGORIAN
BEGIN:VEVENT
DTSTART:20241109T150000Z
DTEND:20241109T180000Z
X-MICROSOFT-CDO-ALLDAYEVENT:FALSE
SUMMARY:Living History Farms Race
DESCRIPTION:Run 5 miles through 300 years of history! Saturday\, November 9   9 a.m. Registration will open August 1 Immerse yourself in rural Iowa landscapes for this one-of-a-kind off-road race. You'll splash through streams\, plow through fields\, and enjoy post-race treats from the Machine Shed. The course starts and ends in the 1876 town of Walnut Hill and runs through our three historic farm sites. Be sure to wave to to the horses\, cows\, sheep\, and pigs! Awards given for overall winners\, age division winners\, and best costumes. Must be 14 to register. All finishers receive a unique cowbell medal.
X-ALT-DESC;FMTTYPE=text/html:Run 5 miles through 300 years of history! Saturday\, November 9 &bull\; 9 a.m. Registration will open August 1 Immerse yourself in rural Iowa landscapes for this one-of-a-kind off-road race. You&rsquo\;ll splash through streams\, plow through fields\, and enjoy post-race treats from the Machine Shed. The course starts and ends in the 1876 town of Walnut Hill and runs through our three historic farm sites. Be sure to wave to to the horses\, cows\, sheep\, and pigs! Awards given for overall winners\, age division winners\, and best costumes. Must be 14 to register. All finishers receive a unique cowbell medal.
LOCATION:Living History Farms 11121 Hickman Rd Urbandale\, IA
UID:e.1185.15020
SEQUENCE:3
DTSTAMP:20260421T000039Z
URL:http://business.uniquelyurbandale.com/events/details/living-history-farms-race-15020
END:VEVENT

END:VCALENDAR
