BEGIN:VCALENDAR
VERSION:2.0
PRODID:-//ChamberMaster//Event Calendar 2.0//EN
METHOD:PUBLISH
X-PUBLISHED-TTL:P3D
REFRESH-INTERVAL:P3D
CALSCALE:GREGORIAN
BEGIN:VEVENT
DTSTART:20241220T230000Z
DTEND:20241221T000000Z
X-MICROSOFT-CDO-ALLDAYEVENT:FALSE
SUMMARY:Lights at the Museum-Sensory Friendly
DESCRIPTION:Play under the lights and learn about light festivals around the world in our annual special holiday event.
X-ALT-DESC;FMTTYPE=text/html:<span style="color:rgb(8\, 8\, 9)\; font-family:roboto\,helvetica\,arial\,sans-serif\; font-size:15px">Play under the lights and learn about light festivals around the world in our annual special holiday event.</span>
LOCATION:Des Moines Children's Museum
UID:e.1185.15965
SEQUENCE:3
DTSTAMP:20260421T031524Z
URL:http://business.uniquelyurbandale.com/events/details/lights-at-the-museum-sensory-friendly-15965
END:VEVENT

END:VCALENDAR
