BEGIN:VCALENDAR
VERSION:2.0
PRODID:-//ChamberMaster//Event Calendar 2.0//EN
METHOD:PUBLISH
X-PUBLISHED-TTL:P3D
REFRESH-INTERVAL:P3D
CALSCALE:GREGORIAN
BEGIN:VEVENT
DTSTART:20240229T180000Z
DTEND:20240229T200000Z
X-MICROSOFT-CDO-ALLDAYEVENT:FALSE
SUMMARY:Leap into your Non-Profit Career
DESCRIPTION:Leap into your non-profit career is a new event for 2024 to connect area students with local non-profits\, young professionals performing non-profit work\, and genYP.  \n\n\n\nStudents now more than ever are seeing themselves working in the non-profit sector.  This event is designed by KEY in Des Moines (Keeping Educated Youth in Des Moines) in response to a student need to learn more about non-profit work in the metro.\n\n\n\nAny member non-profit may attend and be featured with a complimentary trade-show booth. GenYP members are also encouraged to attend to connect with graduating students from area colleges and universities and other professionals working at a non-profit.
X-ALT-DESC;FMTTYPE=text/html:Leap into your non-profit career is a new event for 2024 to connect area students with local non-profits\, young professionals performing non-profit work\, and genYP.&nbsp\;&nbsp\;<br />\n<br />\nStudents now more than ever are seeing themselves working in the non-profit sector.&nbsp\; This event is designed by KEY in Des Moines (Keeping Educated Youth in Des Moines) in response to a student need to learn more about non-profit work in the metro.<br />\n<br />\nAny member non-profit may attend and be featured with a complimentary trade-show booth. GenYP members are also encouraged to attend to connect with graduating students from area colleges and universities and other professionals working at a non-profit.<br />\n&nbsp\;
LOCATION:Goodwill Headquarters 5355 NW 86th St. Johnston\, IA 50131
UID:e.1185.13626
SEQUENCE:3
DTSTAMP:20260421T182124Z
URL:http://business.uniquelyurbandale.com/events/details/leap-into-your-non-profit-career-13626
END:VEVENT

END:VCALENDAR
