BEGIN:VCALENDAR
VERSION:2.0
PRODID:-//ChamberMaster//Event Calendar 2.0//EN
METHOD:PUBLISH
X-PUBLISHED-TTL:P3D
REFRESH-INTERVAL:P3D
CALSCALE:GREGORIAN
BEGIN:VEVENT
DTSTART:20250121T170000Z
DTEND:20250121T210000Z
X-MICROSOFT-CDO-ALLDAYEVENT:FALSE
SUMMARY:Kowboy Kix
DESCRIPTION:Join Kowboy Kix in the Finish Line Show Lounge for an afternoon of classic country music. Must be 21 or older to attend. Don't miss this free show!
X-ALT-DESC;FMTTYPE=text/html:Join Kowboy Kix in the Finish Line Show Lounge for an afternoon of classic country music. Must be 21 or older to attend. Don&rsquo\;t miss this free show!
LOCATION:Prairie Meadows Casino & Racetrack 1 Prairie Meadows Dr\, Altoona\, IA 50009
UID:e.1185.16050
SEQUENCE:3
DTSTAMP:20260421T013135Z
URL:http://business.uniquelyurbandale.com/events/details/kowboy-kix-16050
END:VEVENT

END:VCALENDAR
