BEGIN:VCALENDAR
VERSION:2.0
PRODID:-//ChamberMaster//Event Calendar 2.0//EN
METHOD:PUBLISH
X-PUBLISHED-TTL:P3D
REFRESH-INTERVAL:P3D
CALSCALE:GREGORIAN
BEGIN:VEVENT
DTSTART:20230803T213000Z
DTEND:20230804T003000Z
X-MICROSOFT-CDO-ALLDAYEVENT:FALSE
SUMMARY:Kinetic Edge Physical Therapy 20 Year Celebration!
DESCRIPTION:Come celebrate our 20th anniversary! Free food\, contests\, prizes\, & games! Fun for the whole family.
X-ALT-DESC;FMTTYPE=text/html:Come celebrate our 20th anniversary! Free food\, contests\, prizes\, &amp\; games! Fun for the whole family.
LOCATION:Kinetic Edge Physical Therapy 6000 Grand Ave Des Moines\, IA
UID:e.1185.13120
SEQUENCE:3
DTSTAMP:20260422T015748Z
URL:http://business.uniquelyurbandale.com/events/details/kinetic-edge-physical-therapy-20-year-celebration-13120
END:VEVENT

END:VCALENDAR
