BEGIN:VCALENDAR
VERSION:2.0
PRODID:-//ChamberMaster//Event Calendar 2.0//EN
METHOD:PUBLISH
X-PUBLISHED-TTL:P3D
REFRESH-INTERVAL:P3D
CALSCALE:GREGORIAN
BEGIN:VEVENT
DTSTART:20220511T131500Z
DTEND:20220511T143000Z
X-MICROSOFT-CDO-ALLDAYEVENT:FALSE
SUMMARY:Key in Des Moines - Tap Into Talent: Justice - Impacted Job Seekers
DESCRIPTION:KEY in Des Moines stands for Keeping Educated Youth in Des Moines.  It is a program connecting employers with area colleges and universities for workforce attraction.  Every other month the group hosts free educational sessions.  KEY in Des Moines is a division of the Urbandale Chamber of Commerce.    \n\n\n\nAt this month's KEY meeting\, our speakers will discuss the value justice-impacted individuals bring to the workforce and why recruiting from this often untapped labor pool can be an excellent option for employers across a variety of sectors.   \n\n\n\nFeatured Speakers:\n\nRichelle Seitz\, Workforce Program Coordinator   Reentry\, Iowa Workforce Development and Joy Esposito\, Assistant Director\, Evelyn K. Davis Center for Working Families
X-ALT-DESC;FMTTYPE=text/html:<span style="font-size:14px\;"><span style="font-family:verdana\;">KEY in Des Moines stands for Keeping Educated Youth in Des Moines. &nbsp\;It is a program connecting employers with area colleges and universities for workforce attraction. &nbsp\;Every other month the group hosts free educational sessions.&nbsp\; KEY in Des Moines is a division of the Urbandale Chamber of Commerce.&nbsp\;&nbsp\;&nbsp\;&nbsp\;<br />\n<br />\nAt this month&rsquo\;s KEY meeting\, our speakers will discuss the value justice-impacted individuals bring to the workforce and why recruiting from this often untapped labor pool can be an excellent option for employers across a variety of sectors.&nbsp\; &nbsp\;<br />\n<br />\n<strong>Featured Speakers:</strong><br />\nRichelle Seitz\, Workforce Program Coordinator &ndash\; Reentry\, Iowa Workforce Development and Joy Esposito\, Assistant Director\, Evelyn K. Davis Center for Working Families</span></span>
LOCATION:Hosted Virtually by DMACC
UID:e.1185.11309
SEQUENCE:3
DTSTAMP:20260423T023559Z
URL:http://business.uniquelyurbandale.com/events/details/key-in-des-moines-tap-into-talent-justice-impacted-job-seekers-11309
END:VEVENT

END:VCALENDAR
