BEGIN:VCALENDAR
VERSION:2.0
PRODID:-//ChamberMaster//Event Calendar 2.0//EN
METHOD:PUBLISH
X-PUBLISHED-TTL:P3D
REFRESH-INTERVAL:P3D
CALSCALE:GREGORIAN
BEGIN:VEVENT
DTSTART:20231108T141500Z
DTEND:20231108T153000Z
X-MICROSOFT-CDO-ALLDAYEVENT:FALSE
SUMMARY:KEY in Des Moines - Recruiting through Handshake
DESCRIPTION:KEY in Des Moines stands for Keeping Educated Youth in Des Moines.  It is a program connecting employers with area colleges and universities for workforce attraction.  Every other month the group hosts free educational sessions.  KEY in Des Moines is a division of the Urbandale Chamber of Commerce.\n\n\n\nThis month\, we are focusing on using the Handshake platform for recruitment.  100% of Fortune 100 companies use Handshake to find their next generation of talent\, but the platform is friendly for all sizes of business.\n\n\n\nHandshake is the #1 way college students find jobs.  Learn more during this KEY in Des Moines event about how to use the platform and start recruiting right away!\n\n\n\nKEY in Des Moines   Wed. November 8th \n\nZoom Link: https://DMACC.zoom.us/j/96851655062 \n\n8:15-8:30am     Welcome & Introduction\n\n8:30-9:15am     Presentation   Beyond Job Postings: Making the Most of Handshake's Employer Tools\n\nCreating postings on Handshake is a great way to share your organization's jobs and internships with our students and graduates\, but there's so much more Handshake can do to help you connect with candidates! Join us for this presentation led by one of Handshake's Relationship Managers to learn best practices that will help you engage with our candidates\, including messaging\, events\, and more.  \n\n9:15-9:30am     Announcements from Colleges & Businesses \n\n\n\nSpeaker Bio\n\nMegana Vemula is based in Austin\, TX. She serves as a Senior Relationship Manager and has been at Handshake for all 4 years. As a Senior RM at Handshake\, her key priority is to support her portfolio of education partners and to help them make the most of Handshake to meet their career goals and outcomes for students. As such\, we often advise our partners on strategies that will help their students and employer partners connect in service of making connections that turn into great opportunities for all!
X-ALT-DESC;FMTTYPE=text/html:KEY in Des Moines stands for Keeping Educated Youth in Des Moines. &nbsp\;It is a program connecting employers with area colleges and universities for workforce attraction. &nbsp\;Every other month the group hosts free educational sessions.&nbsp\; KEY in Des Moines is a division of the Urbandale Chamber of Commerce.<br />\n<br />\nThis month\, we are focusing on using the Handshake platform for recruitment.&nbsp\; 100% of Fortune 100 companies use Handshake to find their next generation of talent\, but the platform is friendly for all sizes of business.<br />\n<br />\nHandshake is the #1 way college students find jobs.&nbsp\; Learn more during this KEY in Des Moines event about how to use the platform and start recruiting right away!<br />\n<br />\n<strong><span style="font-family:segoe ui\,sans-serif\;"><span style="font-size:10.0pt\;">KEY in Des Moines &ndash\; Wed. November 8<sup>th</sup> </span></span></strong><br />\n<span style="font-family:segoe ui\,sans-serif\;"><span style="font-size:10.0pt\;">Zoom Link: <a href="https://DMACC.zoom.us/j/96851655062">https://DMACC.zoom.us/j/96851655062</a> </span></span><br />\n<span style="font-family:segoe ui\,sans-serif\;"><span style="font-size:10.0pt\;">8:15-8:30am &ndash\; &nbsp\; Welcome &amp\; Introduction</span></span><br />\n<span style="font-family:segoe ui\,sans-serif\;"><span style="font-size:10.0pt\;">8:30-9:15am &ndash\; &nbsp\; Presentation &ndash\; <em>Beyond Job Postings: Making the Most of Handshake&rsquo\;s Employer Tools</em></span></span><br />\n<span style="font-family:segoe ui\,sans-serif\;"><span style="font-size:10.0pt\;">Creating postings on Handshake is a great way to share your organization&rsquo\;s jobs and internships with our students and graduates\, but there&rsquo\;s so much more Handshake can do to help you connect with candidates! Join us for this presentation led by one of Handshake&rsquo\;s Relationship Managers to learn best practices that will help you engage with our candidates\, including messaging\, events\, and more. &nbsp\;</span></span><br />\n<span style="font-family:segoe ui\,sans-serif\;"><span style="font-size:10.0pt\;">9:15-9:30am &ndash\; &nbsp\; Announcements from Colleges &amp\; Businesses </span></span><br />\n<br />\n<u><strong>Speaker Bio</strong></u><br />\n<span style="color:black\;"><span style="font-family:arial\,sans-serif\;"><span style="font-size:11.0pt\;">Megana Vemula is based in Austin\, TX. She serves as a Senior Relationship Manager and has been at Handshake for all 4 years. As a Senior RM at Handshake\, her key priority is to support her portfolio of education partners and to help them make the most of Handshake to meet their career goals and outcomes for students. As such\, we often advise our partners on strategies that will help their students and employer partners connect in service of making connections that turn into great opportunities for all!</span></span></span><br />\n&nbsp\;
LOCATION:Virtual Meeting Hosted online by DMACC
UID:e.1185.13007
SEQUENCE:3
DTSTAMP:20260421T223051Z
URL:http://business.uniquelyurbandale.com/events/details/key-in-des-moines-recruiting-through-handshake-13007
END:VEVENT

END:VCALENDAR
