BEGIN:VCALENDAR
VERSION:2.0
PRODID:-//ChamberMaster//Event Calendar 2.0//EN
METHOD:PUBLISH
X-PUBLISHED-TTL:P3D
REFRESH-INTERVAL:P3D
CALSCALE:GREGORIAN
BEGIN:VEVENT
DTSTART:20230913T131500Z
DTEND:20230913T143000Z
X-MICROSOFT-CDO-ALLDAYEVENT:FALSE
SUMMARY:KEY in Des Moines
DESCRIPTION:KEY in Des Moines stands for Keeping Educated Youth in Des Moines.  It is a program connecting employers with area colleges and universities for workforce attraction.  Every other month the group hosts free educational sessions.  KEY in Des Moines is a division of the Urbandale Chamber of Commerce.
X-ALT-DESC;FMTTYPE=text/html:KEY in Des Moines stands for Keeping Educated Youth in Des Moines. &nbsp\;It is a program connecting employers with area colleges and universities for workforce attraction. &nbsp\;Every other month the group hosts free educational sessions.&nbsp\; KEY in Des Moines is a division of the Urbandale Chamber of Commerce.
LOCATION:Hosted by DMACC
UID:e.1185.13006
SEQUENCE:3
DTSTAMP:20260422T002725Z
URL:http://business.uniquelyurbandale.com/events/details/key-in-des-moines-13006
END:VEVENT

END:VCALENDAR
