BEGIN:VCALENDAR
VERSION:2.0
PRODID:-//ChamberMaster//Event Calendar 2.0//EN
METHOD:PUBLISH
X-PUBLISHED-TTL:P3D
REFRESH-INTERVAL:P3D
CALSCALE:GREGORIAN
BEGIN:VEVENT
DTSTART:20231117T173000Z
DTEND:20231117T190000Z
X-MICROSOFT-CDO-ALLDAYEVENT:FALSE
SUMMARY:Joint Legislative Luncheon
DESCRIPTION:The Grimes\, Johnston\, Ankeny\, Polk City and Urbandale Chamber of Commerce invite you to attend our Joint Legislative Luncheon to hear form area State Representatives\, State Senators and County Supervisors ahead of the 2024 Legislative Session.\n\n\n\nAll elected officials representing Ankeny\, Johnston\, Grimes and Urbandale have been invited to participate.  \n\n\n\nThis event is open to all participating Chamber Members from Urbandale\, Johnston\, Grimes\, Polk City and Ankeny and their staff.\n\n\n\nRegistration will close Friday\, November 10th at 9am or when we hit capacity.\n\n \nLunch: TBD\n\n\nSpace is Limited!  Please register as soon as possible to ensure a seat!\n\n\n\nREGISTER HERE THROUGH THE ANKENY CHAMBER
X-ALT-DESC;FMTTYPE=text/html:<span style="font-size:14px\;"><span style="color: rgb(85\, 85\, 85)\; font-family: Montserrat\, sans-serif\; text-align: center\;">The Grimes\, Johnston\, Ankeny\, Polk City and Urbandale Chamber of Commerce invite you to attend our Joint Legislative Luncheon to hear form area State Representatives\, State Senators and County Supervisors ahead of the 2024 Legislative Session.<br />\n<br />\nAll elected officials representing Ankeny\, Johnston\, Grimes and Urbandale have been invited to participate.&nbsp\;&nbsp\;</span><br style="box-sizing: border-box\; color: rgb(85\, 85\, 85)\; font-family: Montserrat\, sans-serif\; font-size: 20px\; text-align: center\;" />\n<br style="box-sizing: border-box\; color: rgb(85\, 85\, 85)\; font-family: Montserrat\, sans-serif\; font-size: 20px\; text-align: center\;" />\n<span style="color: rgb(85\, 85\, 85)\; font-family: Montserrat\, sans-serif\; text-align: center\;">This event is open to all participating Chamber Members from Urbandale\, Johnston\, Grimes\, Polk City and Ankeny and their staff.</span><br style="box-sizing: border-box\; color: rgb(85\, 85\, 85)\; font-family: Montserrat\, sans-serif\; font-size: 20px\; text-align: center\;" />\n<br style="box-sizing: border-box\; color: rgb(85\, 85\, 85)\; font-family: Montserrat\, sans-serif\; font-size: 20px\; text-align: center\;" />\n<strong><span style="color: rgb(85\, 85\, 85)\; font-family: Montserrat\, sans-serif\; text-align: center\;">Registration will close Friday\, November 10th at 9am&nbsp\;or when we hit capacity.</span></strong></span><br style="box-sizing: border-box\; color: rgb(85\, 85\, 85)\; font-family: Montserrat\, sans-serif\; font-size: 20px\; text-align: center\;" />\n&nbsp\;\n<div style="text-align: center\;"><span style="font-size:14px\;"><font color="#555555" face="Montserrat\, sans-serif">Lunch: TBD</font></span></div>\n<br />\n<span style="font-size:14px\;"><span style="font-family: Montserrat\, sans-serif\; text-align: center\;"><strong><span style="color:#FF0000\;">Space is Limited!&nbsp\; Please register as soon as possible to ensure a seat!</span><br />\n<br />\n<span style="color:#FF0000\;"><a href="https://web.ankeny.org/events/Joint-Legislative-Luncheon-5618/details">REGISTER HERE</a>&nbsp\;THROUGH THE ANKENY CHAMBER&nbsp\;</span></strong></span></span>
LOCATION:Holiday Inn Express & Suites - Conference Center 2502 SE Hulsizer Dr. Ankeny\, Ia 50021
UID:e.1185.13229
SEQUENCE:3
DTSTAMP:20260421T222955Z
URL:http://business.uniquelyurbandale.com/events/details/joint-legislative-luncheon-13229
END:VEVENT

END:VCALENDAR
