BEGIN:VCALENDAR
VERSION:2.0
PRODID:-//ChamberMaster//Event Calendar 2.0//EN
METHOD:PUBLISH
X-PUBLISHED-TTL:P3D
REFRESH-INTERVAL:P3D
CALSCALE:GREGORIAN
BEGIN:VEVENT
DTSTART:20240130T170000Z
DTEND:20240130T190000Z
X-MICROSOFT-CDO-ALLDAYEVENT:FALSE
SUMMARY:Jerry Beauchamp Band
DESCRIPTION:FREE LIVE ENTERTAINMENT\n\nGenre: Variety/Classic Country
X-ALT-DESC;FMTTYPE=text/html:<p>FREE LIVE ENTERTAINMENT</p>\n\n<p>Genre: Variety/Classic Country</p>\n
LOCATION:Prairie Meadows Racetrack and Casino Finish Line Show Lounge (casino level 2)
UID:e.1185.13635
SEQUENCE:3
DTSTAMP:20260421T193352Z
URL:http://business.uniquelyurbandale.com/events/details/jerry-beauchamp-band-13635
END:VEVENT

END:VCALENDAR
