BEGIN:VCALENDAR
VERSION:2.0
PRODID:-//ChamberMaster//Event Calendar 2.0//EN
METHOD:PUBLISH
X-PUBLISHED-TTL:P3D
REFRESH-INTERVAL:P3D
CALSCALE:GREGORIAN
BEGIN:VEVENT
DTSTART:20240326T160000Z
DTEND:20240326T180000Z
X-MICROSOFT-CDO-ALLDAYEVENT:FALSE
SUMMARY:Jerry Beauchamp Band
DESCRIPTION:FREE LIVE ENTERTAINMENT\n\nGenre: Polka
X-ALT-DESC;FMTTYPE=text/html:<p>FREE LIVE ENTERTAINMENT</p>\n\n<p>Genre: Polka</p>\n
LOCATION:Prairie Meadows Racetrack and Casino Finish Line Show Lounge (casino level 2)
UID:e.1185.13657
SEQUENCE:3
DTSTAMP:20260421T154244Z
URL:http://business.uniquelyurbandale.com/events/details/jerry-beauchamp-band-03-26-2024-13657
END:VEVENT

END:VCALENDAR
