BEGIN:VCALENDAR
VERSION:2.0
PRODID:-//ChamberMaster//Event Calendar 2.0//EN
METHOD:PUBLISH
X-PUBLISHED-TTL:P3D
REFRESH-INTERVAL:P3D
CALSCALE:GREGORIAN
BEGIN:VEVENT
DTSTART:20240302T020000Z
DTEND:20240302T040000Z
X-MICROSOFT-CDO-ALLDAYEVENT:FALSE
SUMMARY:Jef Spradley
DESCRIPTION:FREE LIVE ENTERTAINMENT\n\nGenre: Country/Classic Rock
X-ALT-DESC;FMTTYPE=text/html:<p>FREE LIVE ENTERTAINMENT</p>\n\n<p>Genre: Country/Classic Rock</p>\n
LOCATION:Prairie Meadows Racetrack and Casino Finish Line Show Lounge (casino level 2)
UID:e.1185.13658
SEQUENCE:3
DTSTAMP:20260421T153329Z
URL:http://business.uniquelyurbandale.com/events/details/jef-spradley-13658
END:VEVENT

END:VCALENDAR
