BEGIN:VCALENDAR
VERSION:2.0
PRODID:-//ChamberMaster//Event Calendar 2.0//EN
METHOD:PUBLISH
X-PUBLISHED-TTL:P3D
REFRESH-INTERVAL:P3D
CALSCALE:GREGORIAN
BEGIN:VEVENT
DTSTART:20251001T223000Z
DTEND:20251001T233000Z
X-MICROSOFT-CDO-ALLDAYEVENT:FALSE
SUMMARY:Italy Document Party
DESCRIPTION:You're Invited to Our Pompeii & Amalfi Coast Trip Document Party!  \n\nBuongiorno to Adventure   Let's Get Ready for La Dolce Vita!\n\nBefore we set sail for the stunning Amalfi Coast on October 22\, let's gather for a little Italian flair and fun!\n\nJoin your fellow travelers for a Document Party\, where you'll:\n\n  Pick up your travel packet\n\n  Get your questions answered\n\n  Meet the wonderful people you'll be journeying with\n\nWhether you're dreaming of seaside villages\, lemon groves\, pasta al fresco\, or a beautiful sunset\, this is the perfect way to kick things off.\n\nPlease RSVP by September 22nd so we'll have your packet ready and waiting.\n\nWe can't wait to toast to the adventure ahead \n\nCi vediamo presto (see you soon)!
X-ALT-DESC;FMTTYPE=text/html:<p data-end="203" data-start="71">&#127754\; <strong data-end="133" data-start="74">You&rsquo\;re Invited to Our Pompeii &amp\; Amalfi Coast Trip Document Party!</strong> &#127754\;<br data-end="139" data-start="136" />\n<em data-end="201" data-start="139">Buongiorno to Adventure &ndash\; Let&rsquo\;s Get Ready for La Dolce Vita!</em></p>\n\n<p data-end="323" data-start="205">Before we set sail for the stunning Amalfi Coast on <strong data-end="271" data-start="257">October 22</strong>\, let&rsquo\;s gather for a little Italian flair and fun!</p>\n\n<p data-end="515" data-start="325">Join your fellow travelers for a <strong data-end="376" data-start="358">Document Party</strong>\, where you&rsquo\;ll:<br data-end="394" data-start="391" />\n&#127819\; Pick up your travel packet<br data-end="426" data-start="423" />\n&#127819\; Get your questions answered<br data-end="459" data-start="456" />\n&#127819\; Meet the wonderful people you&rsquo\;ll be journeying with</p>\n\n<p data-end="665" data-start="517">Whether you&rsquo\;re dreaming of seaside villages\, lemon groves\, pasta al fresco\, or a beautiful sunset\, this is the perfect way to kick things off.</p>\n\n<p data-end="851" data-start="773">Please RSVP by <strong data-end="804" data-start="788">September 22nd</strong>&nbsp\;so we&rsquo\;ll have your packet ready and waiting.</p>\n\n<p data-end="939" data-start="853">We can&rsquo\;t wait to toast to the adventure ahead&mdash\;<br data-end="902" data-start="899" />\n<span style="font-size:18px\;"><strong><em data-end="921" data-start="902">Ci vediamo presto</em> (see you soon)!</strong></span></p>\n
LOCATION:Urbandale Chamber of Commerce Aisha R. Syed Board Room Realtor | Iowa Realty 2830 100th St.\, Ste. 110 Urbandale\, IA 50322 OR Teams (link will be sent follow registration)
UID:e.1185.17355
SEQUENCE:3
DTSTAMP:20260421T163328Z
URL:http://business.uniquelyurbandale.com/events/details/italy-document-party-17355
END:VEVENT

END:VCALENDAR
