BEGIN:VCALENDAR
VERSION:2.0
PRODID:-//ChamberMaster//Event Calendar 2.0//EN
METHOD:PUBLISH
X-PUBLISHED-TTL:P3D
REFRESH-INTERVAL:P3D
CALSCALE:GREGORIAN
BEGIN:VEVENT
DTSTART:20250117T123000Z
DTEND:20250117T210000Z
X-MICROSOFT-CDO-ALLDAYEVENT:FALSE
SUMMARY:Iowa Wolves Blood Drive 2025
DESCRIPTION:Give Blood to get the Wolves! Take the shot. Donate blood. It's nothing but net for saving lives. Step onto the court of lifesaving action! Donate blood at one of our Central Iowa Donor Centers on January 17th\, and you'll get a free ticket\, plus a discount ticket\, to an Iowa Wolves basketball game\, and an Iowa Wolves limited edition t-shirt! Your blood donation isn't just a shot in the game\, it's a game-winner for THREE lives. Every donation can help save the lives of up to three different people. Blood donations are critical for hospital patients. They could be fighting a disease or even recovering from an accident. There is no substitution for a blood donation\, because it can't just be created in a lab! When you join the Wolves in making a blood donation in your community\, your contribution STAYS in your community! Your donations with LifeServe helps your family\, friends\, neighbors\, and strangers.
X-ALT-DESC;FMTTYPE=text/html:Give Blood to get the Wolves! Take the shot. Donate blood. It&#39\;s nothing but net for saving lives. Step onto the court of lifesaving action! Donate blood at one of our Central Iowa Donor Centers on January 17th\, and you&#39\;ll get a free ticket\, plus a discount ticket\, to an Iowa Wolves basketball game\, and an Iowa Wolves limited edition t-shirt! Your blood donation isn&#39\;t just a shot in the game\, it&#39\;s a game-winner for THREE lives. Every donation can help save the lives of up to three different people. Blood donations are critical for hospital patients. They could be fighting a disease or even recovering from an accident. There is no substitution for a blood donation\, because it can&#39\;t just be created in a lab! When you join the Wolves in making a blood donation in your community\, your contribution STAYS in your community! Your donations with LifeServe helps your family\, friends\, neighbors\, and strangers.
LOCATION:LifeServe Blood Center Urbandale Donor Center 10469 Hickman Road Urbandale\, IA 50322
UID:e.1185.16107
SEQUENCE:3
DTSTAMP:20260421T013429Z
URL:http://business.uniquelyurbandale.com/events/details/iowa-wolves-blood-drive-2025-16107
END:VEVENT

END:VCALENDAR
