BEGIN:VCALENDAR
VERSION:2.0
PRODID:-//ChamberMaster//Event Calendar 2.0//EN
METHOD:PUBLISH
X-PUBLISHED-TTL:P3D
REFRESH-INTERVAL:P3D
CALSCALE:GREGORIAN
BEGIN:VEVENT
DTSTART:20231026T220000Z
DTEND:20231027T000000Z
X-MICROSOFT-CDO-ALLDAYEVENT:FALSE
SUMMARY:Iowa Fraud Fighters Fall Mixer
DESCRIPTION:On behalf of the Iowa Insurance Division and the Iowa Attorney General's Office\, you are invited to a FREE upcoming Fraud Fighters Fall Mixer on Thursday\, Oct. 26 from 5-7 p.m. at the Machine Shed Restaurant in Urbandale\, Iowa for an evening of important conversations and networking. Food will be provided. New innovations and technology are becoming more and more integrated into our lives and the lives of our loved ones and those we care for. Now more than ever\, scams and fraud are impacting our aging generations\, and it's important we know and can share the tools to protect them. At the Fall Mixer event\, we will discuss how to shield savings from scammers and fraudulent investments\, arm yourself and others with prevention tips\, and learn how to avoid scams. Fraud Fighters is a program created by Iowans who have pledged to be informed and careful investors. You can become an Iowa Fraud Fighter by empowering yourself to fight and report fraud. The Iowa Insurance Division and other state agencies are here to help you. For more information\, visit the website https://iowafraudfighters.gov/about-fraud-fighters/.
X-ALT-DESC;FMTTYPE=text/html:On behalf of the Iowa Insurance Division and the Iowa Attorney General&rsquo\;s Office\, you are invited to a FREE upcoming Fraud Fighters Fall Mixer on Thursday\, Oct. 26 from 5-7 p.m. at the Machine Shed Restaurant in Urbandale\, Iowa for an evening of important conversations and networking. Food will be provided. New innovations and technology are becoming more and more integrated into our lives and the lives of our loved ones and those we care for. Now more than ever\, scams and fraud are impacting our aging generations\, and it&#39\;s important we know and can share the tools to protect them. At the Fall Mixer event\, we will discuss how to shield savings from scammers and fraudulent investments\, arm yourself and others with prevention tips\, and learn how to avoid scams. Fraud Fighters is a program created by Iowans who have pledged to be informed and careful investors. You can become an Iowa Fraud Fighter by empowering yourself to fight and report fraud. The Iowa Insurance Division and other state agencies are here to help you. For more information\, visit the website https://iowafraudfighters.gov/about-fraud-fighters/.
LOCATION:Machine Shed Restaurant\, 11151 Hickman Rd\, Urbandale\, IA 50322
UID:e.1185.13208
SEQUENCE:3
DTSTAMP:20260421T225000Z
URL:http://business.uniquelyurbandale.com/events/details/iowa-fraud-fighters-fall-mixer-13208
END:VEVENT

END:VCALENDAR
