BEGIN:VCALENDAR
VERSION:2.0
PRODID:-//ChamberMaster//Event Calendar 2.0//EN
METHOD:PUBLISH
X-PUBLISHED-TTL:P3D
REFRESH-INTERVAL:P3D
CALSCALE:GREGORIAN
BEGIN:VEVENT
DTSTART:20251009T170000Z
DTEND:20251009T220000Z
X-MICROSOFT-CDO-ALLDAYEVENT:FALSE
SUMMARY:Investor Pop-Ins
DESCRIPTION:Let's go visit our investors! We will divide up into 4 group...each group will have a fulltime staff member and we will hit the road to our investor businesses!
X-ALT-DESC;FMTTYPE=text/html:Let&#39\;s go visit our investors! We will divide up into 4 group...each group will have a fulltime staff member and we will hit the road to our investor businesses!&nbsp\;<br />\n&nbsp\;
LOCATION:
UID:e.1185.17393
SEQUENCE:3
DTSTAMP:20260421T163407Z
URL:http://business.uniquelyurbandale.com/events/details/investor-pop-ins-17393
END:VEVENT

END:VCALENDAR
