BEGIN:VCALENDAR
VERSION:2.0
PRODID:-//ChamberMaster//Event Calendar 2.0//EN
METHOD:PUBLISH
X-PUBLISHED-TTL:P3D
REFRESH-INTERVAL:P3D
CALSCALE:GREGORIAN
BEGIN:VEVENT
DTSTART:20240308T133000Z
DTEND:20240308T153000Z
X-MICROSOFT-CDO-ALLDAYEVENT:FALSE
SUMMARY:International Women's Day Event at Grace Estates
DESCRIPTION:Join Grade Estates for morning coffee and treats on March 8th from 7:30 - 9:30 a.m. to celebrate International Women's Day!
X-ALT-DESC;FMTTYPE=text/html:Join Grade Estates for morning coffee and treats on March 8th from 7:30 - 9:30 a.m. to celebrate International Women&#39\;s Day!<br />\n&nbsp\;
LOCATION:Grace Estates Adult Day Center 801 NE Venture Dr. Waukee\, IA 50263
UID:e.1185.15031
SEQUENCE:3
DTSTAMP:20260421T165859Z
URL:http://business.uniquelyurbandale.com/events/details/international-women-s-day-event-at-grace-estates-15031
END:VEVENT

END:VCALENDAR
