BEGIN:VCALENDAR
VERSION:2.0
PRODID:-//ChamberMaster//Event Calendar 2.0//EN
METHOD:PUBLISH
X-PUBLISHED-TTL:P3D
REFRESH-INTERVAL:P3D
CALSCALE:GREGORIAN
BEGIN:VEVENT
DTSTART:20240612T223000Z
DTEND:20240612T233000Z
X-MICROSOFT-CDO-ALLDAYEVENT:FALSE
SUMMARY:Informational Session | Urbandale Chamber trip to Ireland\, Departing August 17\, 2025
DESCRIPTION:The Urbandale Chamber of Commerce is traveling to Ireland\, departing August 17\, 2025!  \nThis adventure includes scheduled airfare departing from Des Moines\, Iowa\, post-departure insurance\, tour guide\, 2-nights in Limerick\, 2-nights in Killarney\, 2-nights in Dublin\, transportation\, tours of the Cliffs of Moher\, Blarney Castle\, the world-famous Ring of Kerry\, hop on-hop-off bus pass in Dublin\, shuttle transportation to the Iowa State/Kansas State Game in Dublin (game tickets are NOT included) and optional tours to the Skelling Islands and Guinness. In addition\, travelers can opt in to extend their trip to explore Scotland for three days and includes overnights in Edinburgh and a tour of St. Andrews.  \n\n\n\nView the Full Brochure here!\n\n\n\nCome learn more about what is included in this Irish experience on June 12th from 5:30 - 6:30 p.m. at the Urbandale Chamber office or virtually. \n\n\n\nSpace is limited!  If you know you would like to join us\, use the following registration form.
X-ALT-DESC;FMTTYPE=text/html:<h1><span style="font-family:arial\;"><span style="font-size:14px\;"><strong>The Urbandale Chamber of Commerce is traveling to Ireland\, departing August 17\, 2025!&nbsp\;&nbsp\;</strong></span></span></h1>\n<span style="font-family:arial\;"><span style="font-size:14px\;">This adventure includes scheduled airfare departing from Des Moines\, Iowa\, post-departure insurance\, tour guide\, 2-nights in Limerick\, 2-nights in Killarney\, 2-nights in Dublin\, transportation\, tours of the Cliffs of Moher\, Blarney Castle\, the world-famous Ring of Kerry\, hop on-hop-off bus pass in Dublin\, shuttle transportation to the Iowa State/Kansas State Game in Dublin (game tickets are NOT included) and optional tours to the Skelling Islands and Guinness. In addition\, travelers can opt in to extend their trip to explore Scotland for three days and includes overnights in Edinburgh and a tour of St. Andrews.&nbsp\;&nbsp\;<br />\n<br />\n<a href="https://chambermaster.blob.core.windows.net/userfiles/UserFiles/chambers/1185/File/Travel/AD-IrelandIowaStateGame-Urbandale-2025.pdf">View the Full Brochure here!</a><br />\n<br />\nCome learn more about what is included in this Irish experience on June 12th from 5:30 - 6:30 p.m. at the Urbandale Chamber office or virtually.&nbsp\;<br />\n<br />\n<strong>Space is limited!</strong>&nbsp\; If you know you would like to join us\, use the following <a href="https://chambermaster.blob.core.windows.net/userfiles/UserFiles/chambers/1185/File/Travel/ADReservationFormIreland-Urbandale2025.pdf">registration form</a>.&nbsp\;&nbsp\;</span></span>
LOCATION:Urbandale Chamber of Commerce Aisha R. Syed Board Room Realtor | Iowa Realty 2830 100th St.\, Ste. 110 Urbandale\, IA 50322
UID:e.1185.15541
SEQUENCE:3
DTSTAMP:20260421T125259Z
URL:http://business.uniquelyurbandale.com/events/details/informational-session-urbandale-chamber-trip-to-ireland-departing-august-17-2025-15541
END:VEVENT

END:VCALENDAR
