BEGIN:VCALENDAR
VERSION:2.0
PRODID:-//ChamberMaster//Event Calendar 2.0//EN
METHOD:PUBLISH
X-PUBLISHED-TTL:P3D
REFRESH-INTERVAL:P3D
CALSCALE:GREGORIAN
BEGIN:VEVENT
DTSTART:20240625T223000Z
DTEND:20240625T233000Z
X-MICROSOFT-CDO-ALLDAYEVENT:FALSE
SUMMARY:Informational Session | Urbandale Chamber's Trip to Thailand\, February 2025
DESCRIPTION:Discover and Experience Thailand in February\, 2025! \n\n\n\nDeparting February 26\, 2025\, the Urbandale Chamber of Commerce is departing on an adventure of a lifetime! \n\n\n\nThis 12-day journey includes round trip airfare out of Des Moines\, Iowa into Bangkok\, round trip transfers between airports and the hotel\, daily breakfast\, six lunches\, two dinners\, tours (or entrance fees) of Bangkok\, Grand Palace\, Temple of the Emerald Buddha\, Bang P-In Palace\, Buddhist Temple of Wat Doi Suthep\, Mae Rim Elephant Sanctuary\, Mae Khachan Hot Spring\, Wat Rong Khun and Wat Rong Seur Ten\, Buddha Cave Temple and Ao Phang Nga National Park.  \n\n\n\nYou do not need to be a member of the Urbandale Chamber to participate. Guests may fly out of a different airport than Des Moines if desired.  \n\n\n\nCome learn more and ask questions during the informational session scheduled for June 25\, 2024 at the Urbandale Chamber office in the Aisha R. Syed Board Room or virtually.  \n\n\n\n2025 Thailand Trip Brochure
X-ALT-DESC;FMTTYPE=text/html:<span style="font-size:14px\;"><strong>Discover and Experience Thailand in February\, 2025!&nbsp\;</strong></span><br />\n<br />\nDeparting February 26\, 2025\, the Urbandale Chamber of Commerce is departing on an adventure of a lifetime!&nbsp\;<br />\n<br />\nThis 12-day journey includes round trip airfare out of Des Moines\, Iowa into Bangkok\, round trip transfers between airports and the hotel\, daily breakfast\, six lunches\, two dinners\, tours (or entrance fees) of Bangkok\, Grand Palace\, Temple of the Emerald Buddha\, Bang P-In Palace\, Buddhist Temple of Wat Doi Suthep\, Mae Rim Elephant Sanctuary\, Mae Khachan Hot Spring\, Wat Rong Khun and Wat Rong Seur Ten\, Buddha Cave Temple and Ao Phang Nga National Park.&nbsp\;&nbsp\;<br />\n<br />\nYou do not need to be a member of the Urbandale Chamber to participate. Guests may fly out of a different airport than Des Moines if desired.&nbsp\;&nbsp\;<br />\n<br />\n<strong>Come learn more and ask questions during the informational session scheduled for June 25\, 2024 at the Urbandale Chamber office in the Aisha R. Syed Board Room or virtually.&nbsp\;&nbsp\;</strong><br />\n<br />\n<a href="https://chambermaster.blob.core.windows.net/userfiles/UserFiles/chambers/1185/File/Travel/AD-Thailand-Urbandale-2025.pdf">2025 Thailand Trip Brochure</a>
LOCATION:
UID:e.1185.15540
SEQUENCE:3
DTSTAMP:20260421T113843Z
URL:http://business.uniquelyurbandale.com/events/details/informational-session-urbandale-chamber-s-trip-to-thailand-february-2025-15540
END:VEVENT

END:VCALENDAR
