BEGIN:VCALENDAR
VERSION:2.0
PRODID:-//ChamberMaster//Event Calendar 2.0//EN
METHOD:PUBLISH
X-PUBLISHED-TTL:P3D
REFRESH-INTERVAL:P3D
CALSCALE:GREGORIAN
BEGIN:VEVENT
DTSTART:20231113T233000Z
DTEND:20231114T003000Z
X-MICROSOFT-CDO-ALLDAYEVENT:FALSE
SUMMARY:Informational Session | Urbandale Chamber 2024 Trip to Ancient Greece
DESCRIPTION:Explore Ancient Greece with the Urbandale Chamber!\n\nDeparting out of Des Moines\, Iowa\, the group will depart on September 19\, 2024 and arrive in Athens\, Greece the next day.  \n\n\n\nThis trip includes round trip airfare\, round trip transfers\, 7-nights at the King Saron Hotel\, an all-inclusive resort\, all meals are included while at the hotel\, a City tour of Athens\, a tour of the Parthenon & Acropolis\, Corinth Canal Crossing and a Full day in Mycenae\, Epidaurus & Nafplion. \n\n\n\nYou can find the full brochure here\, which includes a link to sign up!\n\n\n\nLearn more at the Chamber's informational session on November 13 at 5:30 p.m. during an informational session being held both in person and virtually.  The discounted price of $3499 is available for any bookings made prior to December 31\, 2023.  The price increases to $3599 for deposits made between January 1\, 2024 - March 19\, 2024.  Full price is $3799 per person based on double occupancy.
X-ALT-DESC;FMTTYPE=text/html:<h2><span style="font-size:14px\;"><span style="font-family:tahoma\;"><span style="color:#006400\;"><strong>Explore Ancient Greece with the Urbandale Chamber!</strong></span></span></span></h2>\n\n<p>Departing out of Des Moines\, Iowa\, the group will depart on <strong>September 19\, 2024</strong> and arrive in Athens\, Greece the next day.&nbsp\;&nbsp\;<br>\n<br>\nThis trip includes round trip airfare\, round trip transfers\, 7-nights at the King Saron Hotel\, an all-inclusive resort\, all meals are included while at the hotel\, a City tour of Athens\, a tour of the Parthenon &amp\; Acropolis\, Corinth Canal Crossing and a Full day in Mycenae\, Epidaurus &amp\; Nafplion.&nbsp\;<br>\n<br>\nYou can find the full <a href="https://uniquelyurbandale.com/wp-content/uploads/2023/05/Smaller-AD-Ancient-Greece-Urbandale-2024.pdf">brochure </a>here\, which includes a link to <a href="https://centaur.chamberdiscoveries.com/centaur6/online/OPR_departureDateSelect?company=atg&amp\;tourId=001420GRE&amp\;groupId=1002925&amp\;depDate=09/19/2024">sign up</a>!<br>\n<br>\n<strong>Learn more at the Chamber's informational session on November 13&nbsp\;at 5:30 p.m. during an&nbsp\;informational session being held both in person and virtually.</strong>&nbsp\; The discounted price of $3499 is available for any bookings made prior to December 31\, 2023.&nbsp\; The price increases to $3599 for deposits made between January 1\, 2024 - March 19\, 2024.&nbsp\; Full price is $3799 per person based on double occupancy.</p>\n
LOCATION:In person at the Urbandale Chamber of Commerce 2830 100th Street\, Ste. 110\, Urbandale in the Aisha R. Syed Board Room Realtor® | Iowa Realty and Virtually
UID:e.1185.13138
SEQUENCE:3
DTSTAMP:20260421T211649Z
URL:http://business.uniquelyurbandale.com/events/details/informational-session-urbandale-chamber-2024-trip-to-ancient-greece-13138
END:VEVENT

END:VCALENDAR
