BEGIN:VCALENDAR
VERSION:2.0
PRODID:-//ChamberMaster//Event Calendar 2.0//EN
METHOD:PUBLISH
X-PUBLISHED-TTL:P3D
REFRESH-INTERVAL:P3D
CALSCALE:GREGORIAN
BEGIN:VEVENT
DTSTART:20250812T223000Z
DTEND:20250812T233000Z
X-MICROSOFT-CDO-ALLDAYEVENT:FALSE
SUMMARY:Informational Session | Travel to Portugal March 2026
DESCRIPTION:The Urbandale Chamber of Commerce is traveling to Portugal in 2026\, departing March 15th and you are invited to join us!\n\n\n\nPortugal is a southern European country on the Iberian Peninsula\, bordering Spain. Its location on the Atlantic Ocean has influenced many aspects of its culture: salt cod and grilled sardines are national dishes\, the Algarve's beaches are a major destination and much of the nation's architecture dates to the 1500s 1800s\, when Portugal had a powerful maritime empire.\n\n\n\nTrip highlights include Lisbon your choice of a walking tour of "Calcadas" or "The Way of the Cod" tour\, Belem\, Cork Factory\, Evora\, Alentejo\, Lagos\, Algarve\, Portimao\, Setuba\, Portuguese Riviera\, Obidos\, Sintra\, Choice of tour: National Palace of Sintra or Walking Tour of UNESCO World Heritage Sites. \n\n\n\nThis 10-day tour includes flight departing from Des Moines\, Iowa\, motorcoach transportation\, hotels\, 13 meals (8-breakfasts\, 2-lunches and 3-dinners along with a variety of experiences listed above.\n\n\n\nThis trip does offer an optional 5-day\, 4-night extension to Madeira Island!  \n\n\n\nClick HERE for a copy of the brochure.
X-ALT-DESC;FMTTYPE=text/html:<p><span style="font-size:14px\;"><span style="font-family:verdana\;">The Urbandale Chamber of Commerce is traveling to Portugal in 2026\, departing March 15th and you are invited to join us!<br />\n<br />\n<span style="color: rgb(71\, 71\, 71)\;">Portugal is a southern European country on the Iberian Peninsula\, bordering Spain. Its location on the Atlantic Ocean has influenced many aspects of its culture: salt cod and grilled sardines are national dishes\, the Algarve&#39\;s beaches are a major destination and much of the nation&rsquo\;s architecture dates to the 1500s&ndash\;1800s\, when Portugal had a powerful maritime empire.</span><br />\n<br />\nTrip highlights include Lisbon your choice of a walking tour of &quot\;Calcadas&quot\; or &quot\;The Way of the Cod&quot\; tour\, Belem\, Cork Factory\, Evora\, Alentejo\, Lagos\, Algarve\, Portimao\, Setuba\, Portuguese Riviera\, Obidos\, Sintra\, Choice of tour: National Palace of Sintra or Walking Tour of UNESCO World Heritage Sites.&nbsp\;<br />\n<br />\nThis 10-day tour includes flight departing from Des Moines\, Iowa\, motorcoach transportation\, hotels\, 13 meals (8-breakfasts\, 2-lunches and 3-dinners along with a variety of experiences listed above.<br />\n<br />\nThis trip does offer an optional 5-day\, 4-night extension to Madeira Island!&nbsp\;&nbsp\;<br />\n<br />\n<strong>Click <a href="https://uniquelyurbandale.com/wp-content/uploads/2025/07/Portugal-brochure.pdf">HERE </a>for a copy of the brochure.&nbsp\;</strong></span></span></p>\n
LOCATION:Urbandale Chamber of Commerce Aisha R. Syed Board Room Realtor | Iowa Realty 2830 100th St.\, Ste. 110 Urbandale\, IA 50322 OR Virtual (link sent to those registered)
UID:e.1185.17322
SEQUENCE:3
DTSTAMP:20260421T152223Z
URL:http://business.uniquelyurbandale.com/events/details/informational-session-travel-to-portugal-march-2026-17322
END:VEVENT

END:VCALENDAR
