BEGIN:VCALENDAR
VERSION:2.0
PRODID:-//ChamberMaster//Event Calendar 2.0//EN
METHOD:PUBLISH
X-PUBLISHED-TTL:P3D
REFRESH-INTERVAL:P3D
CALSCALE:GREGORIAN
BEGIN:VEVENT
DTSTART:20250916T223000Z
DTEND:20250916T233000Z
X-MICROSOFT-CDO-ALLDAYEVENT:FALSE
SUMMARY:Informational Session | Travel to Poland
DESCRIPTION:The Urbandale Chamber of Commerce is traveling to Poland in the fall of 2026\, departing September 1\, and you are invited to join us!\n\n\n\nDiscover the unique architecture and local flavors of Poland on this 10-day adventure. \n\n\n\nThis trip includes round trip airfare from Des Moines\, motorcoach transportation\, 13-meals: 8-breakfasts\, 2-lunches and 3-dinners.  This tour includes an excursion to Auschwitz-Birkenau Concentration Camp Museum\, the Jewish Quarter of Kazimierz\, Two nights in Gdansk\, full day of sightseeing tour of Gdansk with visits to St. Mary's Church and Sopot Pier\, visit to the Castle of the Teutonic Order of Knights in Malbork\, Two nights in Warsaw\, Full day sightseeing tour of Warsaw with visits to the Royal Castle and Warsaw Rising Museum\, A visit to Czestochowa to visit Jasna Gora\, the most important Marian shrine in Poland\, Four nights in Krakow. In addition\, experience the unique architecture in the scenic town of Zakopane.\n\n\n\nClick HERE for a copy of the Brochure\n\nKnow you want to go?!  Click HERE  for a link to the Reservation Form.
X-ALT-DESC;FMTTYPE=text/html:<span style="font-size:14px\;"><span style="font-family:verdana\;">The Urbandale Chamber of Commerce is traveling to Poland in the fall of 2026\, departing September 1\, and you are invited to join us!<br />\n<br />\nDiscover the unique architecture and local flavors of Poland on this 10-day adventure.&nbsp\;<br />\n<br />\nThis trip includes round trip <strong>airfare </strong>from Des Moines\, motorcoach transportation\, <strong>13-meals</strong>: 8-breakfasts\, 2-lunches and 3-dinners.&nbsp\; This tour includes an excursion to <strong>Auschwitz-Birkenau Concentration Camp Museum</strong>\, the <strong>Jewish Quarter of Kazimierz</strong>\, Two nights in <strong>Gdansk</strong>\, full day of sightseeing tour of Gdansk with visits to St. Mary&#39\;s Church and Sopot Pier\, visit to the Castle of the Teutonic Order of Knights in Malbork\, Two nights in <strong>Warsaw</strong>\, Full day sightseeing tour of Warsaw with visits to the Royal Castle and Warsaw Rising Museum\, A visit to <strong>Czestochowa </strong>to visit Jasna Gora\, the most important Marian shrine in Poland\, Four nights in <strong>Krakow</strong>.&nbsp\;In addition\, experience the unique architecture in the scenic town of <strong>Zakopane</strong>.</span></span><br />\n<br />\n<span style="font-size:14px\;"><span style="font-family:verdana\;">Click <strong><a href="https://uniquelyurbandale.com/wp-content/uploads/2025/07/2026-Pride-of-Poland-004.pdf">HERE </a></strong>for a copy of the B<strong>rochure</strong><br />\nKnow you want to go?!&nbsp\; Click<strong> </strong><a href="https://chambermaster.blob.core.windows.net/userfiles/UserFiles/chambers/1185/File/Travel/reservationform-PrideofPoland9.1.26.pdf"><strong>HERE</strong> </a> for a link to the <strong>Reservation Form</strong>.&nbsp\;</span></span>
LOCATION:Urbandale Chamber of Commerce Aisha R. Syed Board Room Realtor | Iowa Realty 2830 100th St.\, Ste. 110 Urbandale\, IA 50322 OR Virtually
UID:e.1185.17323
SEQUENCE:3
DTSTAMP:20260421T152035Z
URL:http://business.uniquelyurbandale.com/events/details/informational-session-travel-to-poland-17323
END:VEVENT

END:VCALENDAR
