BEGIN:VCALENDAR
VERSION:2.0
PRODID:-//ChamberMaster//Event Calendar 2.0//EN
METHOD:PUBLISH
X-PUBLISHED-TTL:P3D
REFRESH-INTERVAL:P3D
CALSCALE:GREGORIAN
BEGIN:VEVENT
DTSTART:20250930T223000Z
DTEND:20250930T233000Z
X-MICROSOFT-CDO-ALLDAYEVENT:FALSE
SUMMARY:Informational Session | Travel to Iceland 2026
DESCRIPTION:The Urbandale Chamber is traveling to Iceland in November\, 2026 departing on the 11th and you are invited!\n\n\n\nCome experience the land of Fire & Ice!  The Urbandale Chamber will depart this journey from Minneapolis.  The trip includes motorcoach transportation to the Minneapolis airport (if desired)\, air from MSP\, hotel accommodations\, breakfast each day\, tours of Reykjavik City including a Northern Lights excursion\, Sky Lagoon Experience\, Golden Circle Tour\, South Shore Adventure\, Geysir geothermal area\, Skogar Folk Museum\, guide and more!   \n\n\n\nView the Full Brochure\n\n\n\nBook Now!
X-ALT-DESC;FMTTYPE=text/html:<span style="font-size:14px\;"><span style="font-family:verdana\;">The Urbandale Chamber is traveling to Iceland in November\, 2026 departing on the 11th and you are invited!<br />\n<br />\nCome experience the land of Fire &amp\; Ice!&nbsp\; The Urbandale Chamber will depart this journey from Minneapolis.&nbsp\; The trip includes motorcoach transportation to the Minneapolis airport (if desired)\, air from MSP\, hotel accommodations\, breakfast each day\, tours of Reykjavik City including a Northern Lights excursion\, Sky Lagoon Experience\, Golden Circle Tour\, South Shore Adventure\, Geysir geothermal area\, Skogar Folk Museum\, guide and more!&nbsp\; &nbsp\;<br />\n<br />\n<a href="https://uniquelyurbandale.com/wp-content/uploads/2025/07/AD-Iceland-Urbandale-EB-2026-small.pdf">View the Full Brochure</a><br />\n<br />\n<a href="https://centaur.adelmandiscoveries.com/centaur6/online/OPR_departureDateSelect?company=atg&amp\;tourId=001415ICE&amp\;groupId=1002925&amp\;depDate=11/11/2026">Book Now!</a></span></span>
LOCATION:Urbandale Chamber of Commerce Aisha R. Syed Board Room Realtor | Iowa Realty 2830 100th St.\, Ste. 110 Urbandale\, IA 50322 OR Virtually
UID:e.1185.17325
SEQUENCE:3
DTSTAMP:20260421T152148Z
URL:http://business.uniquelyurbandale.com/events/details/informational-session-travel-to-iceland-2026-17325
END:VEVENT

END:VCALENDAR
