BEGIN:VCALENDAR
VERSION:2.0
PRODID:-//ChamberMaster//Event Calendar 2.0//EN
METHOD:PUBLISH
X-PUBLISHED-TTL:P3D
REFRESH-INTERVAL:P3D
CALSCALE:GREGORIAN
BEGIN:VEVENT
DTSTART:20250221T180000Z
DTEND:20250221T190000Z
X-MICROSOFT-CDO-ALLDAYEVENT:FALSE
SUMMARY:Informational Session | Discounted Credit Card Processing Benefit
DESCRIPTION:Come learn more about the newest Urbandale Chamber Exclusive Benefit\, discounted credit card processing through U.S. Bank. \nThis informational session will specifically review how members in the health care industry can save money and reduce receivables\, while staying integrated with their EHR.\n\n\n\nThe Chamber is dedicated to helping its members save both time and money.  This commitment led to the development of the Chamber Exclusive Benefit Program. \n\n\n\nWhether a company conducts business online\, in-person\, or on the go\, U.S. Bank ensures that accepting credit and debit card payments is quick\, easy\, and secure. Beyond being a payment processor\, U.S. Bank's solutions can help increase sales\, improve business operations\, and control business costs.\n\n\n\nMembers will have the capability to accept all payment types\, anytime\, and anywhere. Whether a business operates on the go\, online\, in-person\, by phone\, or by mail\, members can accept credit\, debit\, and digital wallet payments.\n\n\n\nMoreover\, members will benefit from fast payment processing. Recognizing the importance of cash flow\, U.S. Bank's technology offers options that enhance cash flow\, with funding available from standard timelines to within hours\, including weekends and holidays.\n\n\n\nTo learn more\, members are encouraged to attend the informational session scheduled for February 21st from 12 - 1 p.m. at the Chamber office. Register today!
X-ALT-DESC;FMTTYPE=text/html:<h2><span style="font-size: 14px\;"><span style="font-family: verdana\;">Come learn more about the newest Urbandale Chamber Exclusive Benefit\, discounted credit card processing through U.S. Bank.&nbsp\;</span></span></h2>\n<span style="color:#FF0000\;"><span style="font-size:14px\;"><span style="font-family:verdana\;"><strong><span data-teams="true">This informational session will specifically review how members in the health care industry can <u>save money</u> and <u>reduce receivables</u>\, while staying integrated with their EHR.</span></strong></span></span></span><br />\n<br />\n<span style="font-size: 14px\;"><span style="font-family: verdana\;">The Chamber is dedicated to helping its members save both time and money.&nbsp\; This commitment led to the development of the Chamber Exclusive Benefit Program.&nbsp\;<br />\n<br />\nWhether a company conducts business online\, in-person\, or on the go\, U.S. Bank ensures that accepting credit and debit card payments is quick\, easy\, and secure. Beyond being a payment processor\, U.S. Bank&rsquo\;s solutions can help increase sales\, improve business operations\, and control business costs.<br />\n<br />\nMembers will have the capability to accept all payment types\, anytime\, and anywhere. Whether a business operates on the go\, online\, in-person\, by phone\, or by mail\, members can accept credit\, debit\, and digital wallet payments.<br />\n<br />\nMoreover\, members will benefit from fast payment processing. Recognizing the importance of cash flow\, U.S. Bank&rsquo\;s technology offers options that enhance cash flow\, with funding available from standard timelines to within hours\, including weekends and holidays.<br />\n<br />\nTo learn more\, members are encouraged to attend the informational session scheduled for <strong>February 21st from 12 - 1 p.m. </strong>at the Chamber office. Register today!</span></span>
LOCATION:Urbandale Chamber of Commerce Aisha R. Syed Board Room Realtor | Iowa Realty 2830 100th St.\, Ste. 110 Urbandale\, IA 50322
UID:e.1185.16121
SEQUENCE:3
DTSTAMP:20260421T043302Z
URL:http://business.uniquelyurbandale.com/events/details/informational-session-discounted-credit-card-processing-benefit-16121
END:VEVENT

END:VCALENDAR
