BEGIN:VCALENDAR
VERSION:2.0
PRODID:-//ChamberMaster//Event Calendar 2.0//EN
METHOD:PUBLISH
X-PUBLISHED-TTL:P3D
REFRESH-INTERVAL:P3D
CALSCALE:GREGORIAN
BEGIN:VEVENT
DTSTART:20240415T223000Z
DTEND:20240415T233000Z
X-MICROSOFT-CDO-ALLDAYEVENT:FALSE
SUMMARY:Informational Session - Best of Scandinavia\, featuring Sweden\, Norway and Denmark
DESCRIPTION:The Urbandale Chamber of Commerce is taking a trip to Scandinavia\, departing July 9\, 2025 and returning on July 18\, 2025.  \n\n\n\nEnjoy remarkable experiences in Sweden\, Norway and Denmark on this once-in-a-lifetime excursion!\n\n\n\nThis trip includes two flights\, both the international flight and a flight from Norway to Copenhagen\, 11 meals (8 breakfast and 3 dinners)\, city tours in Stockholm\, Oslo\, Bergen and Copenhagen with a local guide\, Scenic rail experiences from Oslo to Myrdal and aboard the Flam Railway from Myrdal to Flam\, a cruise of the scenic Sognefjord and Naeroey Fjord\, overnight accommodates a the Hilton Slussen in Stockholm\, Sweden\, Thon Opera in Oslo\, Norway\, Stalheim Hotel in Stalheim\, Norway\, Thon Rosenkrantz\, Bergen\, Norway and Scandic Copenhagen\, Copenhagen\, Denmark.\n\n\n\nAlong the way this trip also includes tours of the City Hall and scenic Old Town in Stockholm\, a visit to the Vigeland Sculpture Park in Oslo\, Tour of the Historic Bryggen and see composer Edvard Grieg's former home in Bergen and see The Little Mermaid statue in Copenhagen.  \n\n\n\nJoin us on April 15\, 2024 for an informational tour with Mayflower Representative\, Kent Van Roekel where you will learn more about this trip.  You may attend in person with Kent or join virtually.  \n\n\n\nAnyone who books this trip within 7-days of the informational session (Through April 22nd) will receive $150 off the price of the trip!  See the full brochure for details.  \n\n\n\nFull trip costs: $6423 per person \n\nIf you book before April 22\, 2024\, the trip is discounted to $6273 per person.  \n\n\n\n*Price includes travel protection coverage
X-ALT-DESC;FMTTYPE=text/html:The Urbandale Chamber of Commerce is taking a trip to Scandinavia\, departing July 9\, 2025 and returning on July 18\, 2025.&nbsp\;&nbsp\;<br />\n<br />\nEnjoy remarkable experiences in Sweden\, Norway and Denmark on this once-in-a-lifetime excursion!<br />\n<br />\nThis trip includes two flights\, both the international flight and a flight from Norway to Copenhagen\, 11 meals (8 breakfast and 3 dinners)\, city tours in Stockholm\, Oslo\, Bergen and Copenhagen with a local guide\, Scenic rail experiences from Oslo to Myrdal and aboard the Flam Railway from Myrdal to Flam\, a cruise of the scenic Sognefjord and Naeroey Fjord\, overnight accommodates a the Hilton Slussen in Stockholm\, Sweden\, Thon Opera in Oslo\, Norway\, Stalheim Hotel in Stalheim\, Norway\, Thon Rosenkrantz\, Bergen\, Norway and Scandic Copenhagen\, Copenhagen\, Denmark.<br />\n<br />\nAlong the way this trip also includes tours of the City Hall and scenic Old Town in Stockholm\, a visit to the Vigeland Sculpture Park in Oslo\, Tour of the Historic Bryggen and see composer Edvard Grieg&#39\;s former home in Bergen and see The Little Mermaid statue in Copenhagen.&nbsp\;&nbsp\;<br />\n<br />\nJoin us on April 15\, 2024 for an informational tour with Mayflower Representative\, Kent Van Roekel where you will learn more about this trip.&nbsp\; You may attend in person with Kent or join virtually.&nbsp\;&nbsp\;<br />\n<br />\n<span style="color:#B22222\;"><strong>Anyone who books this trip within 7-days of the informational session (Through April 22nd) will receive $150 off the price of the trip!&nbsp\; See the full brochure for details.&nbsp\;&nbsp\;</strong></span><br />\n<br />\n<strong>Full trip costs: $6423 per person&nbsp\;</strong><br />\nIf you book before <span style="color:#B22222\;"><strong>April 22\, 2024</strong></span>\, the trip is discounted to <strong><span style="color:#B22222\;">$6273</span></strong> per person.&nbsp\;&nbsp\;<br />\n<br />\n*Price includes travel protection coverage
LOCATION:Urbandale Chamber of Commerce Aisha R. Syed Board Room Realtor | Iowa Realty 2830 100th St.\, Ste. 110 Urbandale\, IA 50322 OR Zoom
UID:e.1185.15002
SEQUENCE:3
DTSTAMP:20260421T154427Z
URL:http://business.uniquelyurbandale.com/events/details/informational-session-best-of-scandinavia-featuring-sweden-norway-and-denmark-15002
END:VEVENT

END:VCALENDAR
