BEGIN:VCALENDAR
VERSION:2.0
PRODID:-//ChamberMaster//Event Calendar 2.0//EN
METHOD:PUBLISH
X-PUBLISHED-TTL:P3D
REFRESH-INTERVAL:P3D
CALSCALE:GREGORIAN
BEGIN:VEVENT
DTSTART:20240202T220000Z
DTEND:20240203T010000Z
X-MICROSOFT-CDO-ALLDAYEVENT:FALSE
SUMMARY:Infinite Resources 4 Year Anniversary
DESCRIPTION:Connect and network with fellow professionals and business leaders from various chambers of commerce.\n\nJoin us in celebrating four years of success with Infinite Resources! This remarkable milestone calls for a memorable evening filled with food\, drinks\, music\, and networking opportunities. Hosted in collaboration with the The Urbandale Chamber of Commerce\, The West Des Moines Chamber of Commerce\, Fuse Chamber of Commerce\, and The Ankeny Chamber of Commerce.\n\n\n\nSpecial Highlight:\n\nDon't miss the chance to enter our drawing for a $500 social media production package! To participate\, simply bring your business card and drop it in the drawing box. This exciting opportunity could enhance your social media presence and contribute to your business success.\n\n\n\nRegister Here! Come celebrate this milestone with us and make valuable connections that could shape the future of your business.\n\nWe look forward to seeing you there!
X-ALT-DESC;FMTTYPE=text/html:Connect and network with fellow professionals and business leaders from various chambers of commerce.<br />\nJoin us in celebrating four years of success with Infinite Resources! This remarkable milestone calls for a memorable evening filled with food\, drinks\, music\, and networking opportunities. Hosted in collaboration with the The Urbandale Chamber of Commerce\, The West Des Moines Chamber of Commerce\, Fuse Chamber of Commerce\, and The Ankeny Chamber of Commerce.<br />\n<br />\nSpecial Highlight:<br />\nDon&#39\;t miss the chance to enter our drawing for a $500 social media production package! To participate\, simply bring your business card and drop it in the drawing box. This exciting opportunity could enhance your social media presence and contribute to your business success.<br />\n<br />\nRegister&nbsp\;<a href="https://docs.google.com/forms/d/e/1FAIpQLSc3jHgVypKMDf7dkgg2MTkpDS5Gkghyabn9yClVeeqSruQR3Q/viewform?usp=sf_link">Here!</a>&nbsp\;Come celebrate this milestone with us and make valuable connections that could shape the future of your business.<br />\nWe look forward to seeing you there!
LOCATION:The Infinite Resources office: 500 SW 7th St. Suite 202\, Des Moines\, IA 50309
UID:e.1185.14983
SEQUENCE:3
DTSTAMP:20260421T165422Z
URL:http://business.uniquelyurbandale.com/events/details/infinite-resources-4-year-anniversary-14983
END:VEVENT

END:VCALENDAR
