BEGIN:VCALENDAR
VERSION:2.0
PRODID:-//ChamberMaster//Event Calendar 2.0//EN
METHOD:PUBLISH
X-PUBLISHED-TTL:P3D
REFRESH-INTERVAL:P3D
CALSCALE:GREGORIAN
BEGIN:VEVENT
DTSTART:20241107T230000Z
DTEND:20241108T010000Z
X-MICROSOFT-CDO-ALLDAYEVENT:FALSE
SUMMARY:HW Premium CBD +nutrition-Open House 2024
DESCRIPTION:We're excited to invite you on November 7th\, 2024 at our new location: 8515 Hickman Rd.\, Urbandale. Explore new wellness products\, enjoy educational discussions\, and let us show our appreciation for our amazing customers. Plus\, enjoy FREE samples\, snacks\, and drinks!
X-ALT-DESC;FMTTYPE=text/html:We&rsquo\;re excited to invite you on <strong>November 7th\, 2024</strong> at our new location: <strong>8515 Hickman Rd.\, Urbandale</strong>. Explore new wellness products\, enjoy educational discussions\, and let us show our appreciation for our amazing customers. Plus\, enjoy <strong>FREE samples\, snacks\, and drinks</strong>!
LOCATION:HW Premium CBD +nutrition (Cobblestone Market) 8515 Hickman Rd Urbandale\, Iowa 50322
UID:e.1185.15900
SEQUENCE:3
DTSTAMP:20260420T235933Z
URL:http://business.uniquelyurbandale.com/events/details/hw-premium-cbd-nutrition-open-house-2024-15900
END:VEVENT

END:VCALENDAR
