BEGIN:VCALENDAR
VERSION:2.0
PRODID:-//ChamberMaster//Event Calendar 2.0//EN
METHOD:PUBLISH
X-PUBLISHED-TTL:P3D
REFRESH-INTERVAL:P3D
CALSCALE:GREGORIAN
BEGIN:VEVENT
DTSTART:20231026T213000Z
DTEND:20231027T000000Z
X-MICROSOFT-CDO-ALLDAYEVENT:FALSE
SUMMARY:Homemakers Trick or Treat Event
DESCRIPTION:Bring the whole family to Homemakers for an evening of FREE FAMILY FUN and a warm and safe trick-or-treating experience! Bring your kids in costumes and fill a bag with treats and treasures. *While quantities last. Children must be accompanied by an adult.
X-ALT-DESC;FMTTYPE=text/html:Bring the whole family to Homemakers for an evening of FREE FAMILY FUN and a warm and safe trick-or-treating experience! Bring your kids in costumes and fill a bag with treats and treasures. *While quantities last. Children must be accompanied by an adult.
LOCATION:Homemakers Furniture 10215 Douglas Avenue Urbandale\, IA 50322
UID:e.1185.13163
SEQUENCE:3
DTSTAMP:20260422T001621Z
URL:http://business.uniquelyurbandale.com/events/details/homemakers-trick-or-treat-event-10-26-2023-13163
END:VEVENT

END:VCALENDAR
