BEGIN:VCALENDAR
VERSION:2.0
PRODID:-//ChamberMaster//Event Calendar 2.0//EN
METHOD:PUBLISH
X-PUBLISHED-TTL:P3D
REFRESH-INTERVAL:P3D
CALSCALE:GREGORIAN
BEGIN:VEVENT
DTSTART:20231007T150000Z
DTEND:20231007T200000Z
X-MICROSOFT-CDO-ALLDAYEVENT:FALSE
SUMMARY:Homemakers Showroom Grand Opening Celebration
DESCRIPTION:Homemakers Showroom Grand Opening event will be filled with prizes\, giveaways\, and more! With special visits from princesses and superheroes from 11am-1pm and a balloon twister from 11am-3pm. Help us celebrate the completion of Homemakers' showroom renovations and new look!
X-ALT-DESC;FMTTYPE=text/html:Homemakers Showroom Grand Opening event will be filled with prizes\, giveaways\, and more! With special visits from princesses and superheroes from 11am-1pm and a balloon twister from 11am-3pm. Help us celebrate the completion of Homemakers&rsquo\; showroom renovations and new look!
LOCATION:Homemakers Furniture 10215 Douglas Avenue Urbandale\, IA 50322
UID:e.1185.13162
SEQUENCE:3
DTSTAMP:20260422T001621Z
URL:http://business.uniquelyurbandale.com/events/details/homemakers-showroom-grand-opening-celebration-13162
END:VEVENT

END:VCALENDAR
