BEGIN:VCALENDAR
VERSION:2.0
PRODID:-//ChamberMaster//Event Calendar 2.0//EN
METHOD:PUBLISH
X-PUBLISHED-TTL:P3D
REFRESH-INTERVAL:P3D
CALSCALE:GREGORIAN
BEGIN:VEVENT
DTSTART:20240331T010000Z
DTEND:20240331T030000Z
X-MICROSOFT-CDO-ALLDAYEVENT:FALSE
SUMMARY:Hold On
DESCRIPTION:FREE LIVE ENTERTAINMENT\n\nGenre: Rock
X-ALT-DESC;FMTTYPE=text/html:<p>FREE LIVE ENTERTAINMENT</p>\n\n<p>Genre: Rock</p>\n
LOCATION:Prairie Meadows Racetrack and Casino Finish Line Show Lounge (casino level 2)
UID:e.1185.13666
SEQUENCE:3
DTSTAMP:20260421T164148Z
URL:http://business.uniquelyurbandale.com/events/details/hold-on-03-30-2024-13666
END:VEVENT

END:VCALENDAR
