BEGIN:VCALENDAR
VERSION:2.0
PRODID:-//ChamberMaster//Event Calendar 2.0//EN
METHOD:PUBLISH
X-PUBLISHED-TTL:P3D
REFRESH-INTERVAL:P3D
CALSCALE:GREGORIAN
BEGIN:VEVENT
DTSTART:20231021T140000Z
DTEND:20231021T180000Z
X-MICROSOFT-CDO-ALLDAYEVENT:FALSE
SUMMARY:HEALTHtoberfest at Walnut Creek YMCA
DESCRIPTION:Come visit on Saturday\, October 21st for HEALTHtoberfest. We'll have vendors sharing information on how you can improve your health\, activities\, classes\, and a flu shot clinic presented by Hy-Vee. Admission is free for all and guests can try Group Fitness classes and take a tour of the facility. The Y is a great place to improve your health and fitness. Give us a try!
X-ALT-DESC;FMTTYPE=text/html:<span style="color:#333333"><span style="font-family:arial\,sans-serif"><span style="font-size:10.0pt">Come visit on Saturday\, October 21st for HEALTHtoberfest. We&#39\;ll have vendors sharing information on how you can improve your health\, activities\, classes\, and a flu shot clinic presented by Hy-Vee. Admission is free for all and guests can try Group Fitness classes and take a tour of the facility. The Y is a great place to improve your health and fitness. Give us a try!</span></span></span>
LOCATION:Walnut Creek YMCA 948 73rd St Windsor Heights\, IA 50324
UID:e.1185.13230
SEQUENCE:3
DTSTAMP:20260421T230222Z
URL:http://business.uniquelyurbandale.com/events/details/healthtoberfest-at-walnut-creek-ymca-13230
END:VEVENT

END:VCALENDAR
