BEGIN:VCALENDAR
VERSION:2.0
PRODID:-//ChamberMaster//Event Calendar 2.0//EN
METHOD:PUBLISH
X-PUBLISHED-TTL:P3D
REFRESH-INTERVAL:P3D
CALSCALE:GREGORIAN
BEGIN:VEVENT
DTSTART:20230919T130000Z
DTEND:20230919T200000Z
X-MICROSOFT-CDO-ALLDAYEVENT:FALSE
SUMMARY:GrowthCLUB Q4 Planning Day
DESCRIPTION:Accelerate ActionCOACH has teamed up with ActionCOACH Vanguard in Ankeny to provide a day of education and enrichment for your business.\n\n\n\nGrowthCLUB is ActionCOACH's 90-day planning workshop for small to medium-sized businesses. \n\nYou will learn how to turn chaos into clarity when running a small business\, with clear goals in an interactive environment. You will learn how to create quarterly 90-day action strategies to grow your business. And you will leave with a concise step-by-step plan of action for Q4 2023 that will ensure growth and more profit.\n\n\n\nBONUS: Keynote speaker Andy Gwynn will be sharing his tips\, tricks and navigation tools to level up your presence on LinkedIn.
X-ALT-DESC;FMTTYPE=text/html:Accelerate ActionCOACH has teamed up with ActionCOACH Vanguard in Ankeny to provide a day of education and enrichment for your business.<br />\n<br />\nGrowthCLUB is ActionCOACH&#39\;s 90-day planning workshop for small to medium-sized businesses.&nbsp\;<br />\nYou will learn how to turn chaos into clarity when running a small business\, with clear goals in an interactive environment. You will learn how to create quarterly 90-day action strategies to grow your business. And you will leave with a concise step-by-step plan of action for Q4 2023 that will ensure growth and more profit.<br />\n<br />\nBONUS: Keynote speaker Andy Gwynn will be sharing his tips\, tricks and navigation tools to level up your presence on LinkedIn.
LOCATION:Fairfield Inn & Suites 8661 Plum Drive Urbandale\, IA 50322
UID:e.1185.13155
SEQUENCE:3
DTSTAMP:20260422T002845Z
URL:http://business.uniquelyurbandale.com/events/details/growthclub-q4-planning-day-13155
END:VEVENT

END:VCALENDAR
