BEGIN:VCALENDAR
VERSION:2.0
PRODID:-//ChamberMaster//Event Calendar 2.0//EN
METHOD:PUBLISH
X-PUBLISHED-TTL:P3D
REFRESH-INTERVAL:P3D
CALSCALE:GREGORIAN
BEGIN:VEVENT
DTSTART:20240927T153000Z
DTEND:20240927T170000Z
X-MICROSOFT-CDO-ALLDAYEVENT:FALSE
SUMMARY:Ground Breaking Event for The Urbandale Food Pantry
DESCRIPTION:Join the Urbandale Chamber for the Urbandale Food Pantry's Ground Breaking Event.\n\n\n\nCome out and enjoy food\, fun\, community\, networking and celebrate with us!\n\n\n\nPARK AT URBANDALE POST OFFICE (7755 Douglas Ave. Urbandale\, IA 50322)
X-ALT-DESC;FMTTYPE=text/html:<strong style="color: rgb(75\, 0\, 130)\;"><span style="font-size: 20px\;">Join the Urbandale Chamber for the Urbandale Food Pantry&#39\;s Ground Breaking Event.</span></strong><br />\n<br />\n<font color="#000080" face="tahoma"><span style="font-size: 14px\;">Come out and enjoy food\, fun\, community\, networking and celebrate with us!</span></font><br />\n<br />\n<strong style="font-size: 14px\;"><span style="color: rgb(255\, 0\, 0)\;">PARK AT URBANDALE POST OFFICE (7755 Douglas Ave. Urbandale\, IA 50322)</span></strong>
LOCATION:7901 Douglas Ave. Urbandale\, IA 50324 PARK AT URBANDALE POST OFFICE (7755 Douglas Ave. Urbandale\, IA 50322)
UID:e.1185.15668
SEQUENCE:3
DTSTAMP:20260421T090244Z
URL:http://business.uniquelyurbandale.com/events/details/ground-breaking-event-for-the-urbandale-food-pantry-15668
END:VEVENT

END:VCALENDAR
