BEGIN:VCALENDAR
VERSION:2.0
PRODID:-//ChamberMaster//Event Calendar 2.0//EN
METHOD:PUBLISH
X-PUBLISHED-TTL:P3D
REFRESH-INTERVAL:P3D
CALSCALE:GREGORIAN
BEGIN:VEVENT
DTSTART:20250201T020000Z
DTEND:20250201T050000Z
X-MICROSOFT-CDO-ALLDAYEVENT:FALSE
SUMMARY:GRIND Band
DESCRIPTION:Come see Grind perform for FREE in the Finish Line Show Lounge. You'll enjoy this high energy rock show. Must be 21 or older to attend.
X-ALT-DESC;FMTTYPE=text/html:Come see Grind perform for FREE in the Finish Line Show Lounge. You&rsquo\;ll enjoy this high energy rock show. Must be 21 or older to attend.
LOCATION:Prairie Meadows Casino & Racetrack 1 Prairie Meadows Dr\, Altoona\, IA 50009
UID:e.1185.16056
SEQUENCE:3
DTSTAMP:20260421T013210Z
URL:http://business.uniquelyurbandale.com/events/details/grind-band-16056
END:VEVENT

END:VCALENDAR
