BEGIN:VCALENDAR
VERSION:2.0
PRODID:-//ChamberMaster//Event Calendar 2.0//EN
METHOD:PUBLISH
X-PUBLISHED-TTL:P3D
REFRESH-INTERVAL:P3D
CALSCALE:GREGORIAN
BEGIN:VEVENT
DTSTART:20240803T140000Z
DTEND:20240803T210000Z
X-MICROSOFT-CDO-ALLDAYEVENT:FALSE
SUMMARY:Grain Harvest Day
DESCRIPTION:Help us bring in this year's harvest! Saturday\, August 3   9 a.m.-4 p.m. All activities included with General Admission Living History Farms' original community event! Get your hands dirty and help our historic interpreters thresh grain using methods from centuries past.
X-ALT-DESC;FMTTYPE=text/html:Help us bring in this year&rsquo\;s harvest! Saturday\, August 3 &bull\; 9 a.m.-4 p.m. All activities included with General Admission Living History Farms&rsquo\; original community event! Get your hands dirty and help our historic interpreters thresh grain using methods from centuries past.
LOCATION:Living History Farms 11121 Hickman Rd Urbandale\, IA
UID:e.1185.15016
SEQUENCE:3
DTSTAMP:20260421T085649Z
URL:http://business.uniquelyurbandale.com/events/details/grain-harvest-day-15016
END:VEVENT

END:VCALENDAR
