BEGIN:VCALENDAR
VERSION:2.0
PRODID:-//ChamberMaster//Event Calendar 2.0//EN
METHOD:PUBLISH
X-PUBLISHED-TTL:P3D
REFRESH-INTERVAL:P3D
CALSCALE:GREGORIAN
BEGIN:VEVENT
DTSTART:20230531T210000Z
DTEND:20230531T230000Z
X-MICROSOFT-CDO-ALLDAYEVENT:FALSE
SUMMARY:Grace Estates Grand Opening & Ribbon Cutting
DESCRIPTION:Join the Urbandale and Waukee Chambers as we celebrate the Grand Opening Grace Estates Adult Day Center with a Ribbon Cutting!\n\n\n\nGrace Estates Adult Day Center is the first of its kind here in Central Iowa. They offer physical and occupational therapy\, catered meals\, full activity schedules\, music and entertainment\, shower and personal care assistance\, transportation\, respite care and much\, much more.\n\n\n\nJoin us at their open house for a tour\, hot appetizers\, drinks and ice cream!
X-ALT-DESC;FMTTYPE=text/html:<strong style="color: rgb(75\, 0\, 130)\;"><span style="font-size: 20px\;">Join the Urbandale and Waukee Chambers as we celebrate the Grand Opening Grace Estates Adult Day Center with a Ribbon Cutting!</span></strong><br />\n<br />\n<span style="font-size:14px\;"><span style="color:#8B4513\;">Grace Estates Adult Day Center is the first of its kind here in Central Iowa. They offer physical and occupational therapy\, catered meals\, full activity schedules\, music and entertainment\, shower and personal care assistance\, transportation\, respite care and much\, much more.<br />\n<br />\nJoin us at their open house for a tour\, hot appetizers\, drinks and ice cream!</span></span>
LOCATION:Grace Estates Adult Day Center 801 NE Venture Dr. Waukee\, IA 50263
UID:e.1185.13045
SEQUENCE:3
DTSTAMP:20260422T090928Z
URL:http://business.uniquelyurbandale.com/events/details/grace-estates-grand-opening-ribbon-cutting-13045
END:VEVENT

END:VCALENDAR
